BEGIN:VCALENDAR
VERSION:2.0
PRODID:-//Fjärås AIK - ECPv6.7.0//NONSGML v1.0//EN
CALSCALE:GREGORIAN
METHOD:PUBLISH
X-ORIGINAL-URL:https://www.fjarasaik.se
X-WR-CALDESC:Events for Fjärås AIK
REFRESH-INTERVAL;VALUE=DURATION:PT1H
X-Robots-Tag:noindex
X-PUBLISHED-TTL:PT1H
BEGIN:VTIMEZONE
TZID:Europe/Stockholm
BEGIN:DAYLIGHT
TZOFFSETFROM:+0100
TZOFFSETTO:+0200
TZNAME:CEST
DTSTART:20240331T010000
END:DAYLIGHT
BEGIN:STANDARD
TZOFFSETFROM:+0200
TZOFFSETTO:+0100
TZNAME:CET
DTSTART:20241027T010000
END:STANDARD
BEGIN:DAYLIGHT
TZOFFSETFROM:+0100
TZOFFSETTO:+0200
TZNAME:CEST
DTSTART:20250330T010000
END:DAYLIGHT
BEGIN:STANDARD
TZOFFSETFROM:+0200
TZOFFSETTO:+0100
TZNAME:CET
DTSTART:20251026T010000
END:STANDARD
END:VTIMEZONE
BEGIN:VEVENT
DTSTART;TZID=Europe/Stockholm:20250308T080000
DTEND;TZID=Europe/Stockholm:20250309T170000
DTSTAMP:20260426T053357
CREATED:20250216T091400Z
LAST-MODIFIED:20250216T092017Z
UID:1055-1741420800-1741539600@www.fjarasaik.se
SUMMARY:Hallandspremiären
DESCRIPTION:Medel: https://eventor.orientering.se/Events/Show/48820 \nLång: https://eventor.orientering.se/Events/Show/48822
URL:https://www.fjarasaik.se/event/hallandspremiaren/
CATEGORIES:Tävling
END:VEVENT
BEGIN:VEVENT
DTSTART;TZID=Europe/Stockholm:20250228T220000
DTEND;TZID=Europe/Stockholm:20250302T170000
DTSTAMP:20260426T053357
CREATED:20241130T180021Z
LAST-MODIFIED:20241130T180021Z
UID:951-1740780000-1740934800@www.fjarasaik.se
SUMMARY:Sverigepremiären 2025
DESCRIPTION:SVERIGEPREMIÄREN I ORIENTERING 28 februari – 2 mars 2025\n \nSå här ser programmet ut på Sverigepremiären 2025:  \nFredag 28 februari: Nattorientering med masstart. Karta: Åhus Norra. Länk till Eventor..\nLördag 1 mars: Medeldistans. Karta: Furuboda-Friseboda. Länk till Eventor.\nSöndag 2 mars: Långdistans.  Karta: Furuboda-Friseboda. Länk till Eventor. \nMer information här:\nhttps://www.pan-kristianstad.nu/index.php/sverigepremiar \n  \n 
URL:https://www.fjarasaik.se/event/sverigepremiaren-2025/
CATEGORIES:Tävling
END:VEVENT
BEGIN:VEVENT
DTSTART;TZID=Europe/Stockholm:20250222T100000
DTEND;TZID=Europe/Stockholm:20250223T150000
DTSTAMP:20260426T053357
CREATED:20250210T200603Z
LAST-MODIFIED:20250213T051123Z
UID:1051-1740218400-1740322800@www.fjarasaik.se
SUMMARY:Intensivkurs i orientering 22-23 februari 2025
DESCRIPTION:Fjärås AIK bjuder in till Intensivkurs i orientering 22-23 februari 2025 för alla ungdomar från 13-14 år och vuxna. \nMed en blandning av teori och praktiska övningar lär du dig att hantera karta och kompass för att kunna orientera på ett säkert sätt i okänd terräng. Läs mer om orientering här. \nNär: Lördag-söndag 22-23 Februari 2025. 10.00-15.00 båda dagarna. \nPlats: FAIK-stugan\, Stamvägen 1\, 43497 Kungsbacka \nKostnad: 500 kr inklusive lunch\, kurshäfte och lån av kompass samt ett års medlemskap i Fjärås AIK \nMax antal deltagare: 20 \nAnmälan: Senast onsdag 19 februari med mail till torbjorn@fjarasaik.se \nVälkomna!
URL:https://www.fjarasaik.se/event/intensivkurs-i-orientering-22-23-februari-2025/
LOCATION:FAIK-Stugan\, Stamvägen 1\, Kungsbacka\, Sverige
CATEGORIES:Träning
END:VEVENT
BEGIN:VEVENT
DTSTART;TZID=Europe/Stockholm:20250206T190000
DTEND;TZID=Europe/Stockholm:20250206T210000
DTSTAMP:20260426T053357
CREATED:20241222T100627Z
LAST-MODIFIED:20241222T100627Z
UID:954-1738868400-1738875600@www.fjarasaik.se
SUMMARY:Årsmöte 2025 - 6/2 kl. 19.00
DESCRIPTION:Du som medlem i Fjärås AIK är hjärtligt välkommen till årsmötet torsdagen den 6:e februari klockan 19.00. Motionsstopp är 25:e januari. \nÅrsmötet är ett viktigt tillfälle för medlemmar att påverka och diskutera vad föreningen ska satsa på det kommande året. Alla medlemmar är välkomna\, både nya och erfarna.\n \nVälkomna till FAIK-stugan!
URL:https://www.fjarasaik.se/event/arsmote-2025-6-2-kl-19-00/
LOCATION:FAIK-Stugan\, Stamvägen 1\, Kungsbacka\, Sverige
CATEGORIES:Möten,Socialt
END:VEVENT
BEGIN:VEVENT
DTSTART;TZID=Europe/Stockholm:20241225T100000
DTEND;TZID=Europe/Stockholm:20241225T120000
DTSTAMP:20260426T053357
CREATED:20241130T175016Z
LAST-MODIFIED:20241212T184520Z
UID:947-1735120800-1735128000@www.fjarasaik.se
SUMMARY:Juldagspromenad (eller juljogg) Fjärås Bräcka
DESCRIPTION:På juldagen den 25:e december har vi vår traditionella juldagspromenad. Vi ses kl 10 vid Naturrum på Fjärås Bräcka. \nFör den som har spring i benen kör vi en lugn juljogg som utgår från samma ställe. Längd och hastighet anpassas till alla deltagare.
URL:https://www.fjarasaik.se/event/juldagspromenad-fjaras-bracka/
CATEGORIES:Socialt
END:VEVENT
BEGIN:VEVENT
DTSTART;TZID=Europe/Stockholm:20241208T150000
DTEND;TZID=Europe/Stockholm:20241208T180000
DTSTAMP:20260426T053357
CREATED:20241103T184817Z
LAST-MODIFIED:20241130T175218Z
UID:942-1733670000-1733680800@www.fjarasaik.se
SUMMARY:Årsavslutning med prisutdelning och träning!
DESCRIPTION:Vi kör vår traditionsenliga årsavslutning lördagen den 8:e december i vår mysiga klubbstuga och du är välkommen. Det blir fika och prisutdelning. Vi kör igång kl 15.00. \nBehöver du köpa nya tävlingskläder eller en retro-snygg FAIK-mössa är detta ett bra tillfälle att göra det. Vi kommer även skänka bort äldre FAIK-träningskläder om det är någon som vill ha. \nFör de som vill ordnar vi en enklare träning innan med start klockan 13:15. Dusch finns att tillgå i stugan efter träning.\n\nDu anmäler dig för både fika och träning i Eventor: https://eventor.orientering.se/Activities/Show/22179\n\nEller till Robert via mejl robert@fjarasaik.se eller SMS 0707-128162\n\nDu anmäler dig senast torsdagen 5/12.\n\nDet vore kul om du ville komma! 🙂
URL:https://www.fjarasaik.se/event/arsavslutning-med-prisutdelning-och-eventuellt-traning/
LOCATION:FAIK-Stugan\, Stamvägen 1\, Kungsbacka\, Sverige
CATEGORIES:Socialt,Träning
END:VEVENT
BEGIN:VEVENT
DTSTART;TZID=Europe/Stockholm:20241117T100000
DTEND;TZID=Europe/Stockholm:20241117T120000
DTSTAMP:20260426T053357
CREATED:20241103T185042Z
LAST-MODIFIED:20241103T185042Z
UID:944-1731837600-1731844800@www.fjarasaik.se
SUMMARY:Möjlig träning vid Tjolöholm
DESCRIPTION:Söndagen den 17:e november blir det träning vid Slottskullen i Tjolöholm om vädret tillåter. Både för nybörjare och för dig som är erfaren. Save the date! 🙂 \nMer info och länk till Eventor kommer.
URL:https://www.fjarasaik.se/event/mojlig-traning-vid-tjoloholm/
CATEGORIES:Träning
END:VEVENT
BEGIN:VEVENT
DTSTART;TZID=Europe/Stockholm:20241114T180000
DTEND;TZID=Europe/Stockholm:20241114T200000
DTSTAMP:20260426T053357
CREATED:20241103T184218Z
LAST-MODIFIED:20241103T184218Z
UID:940-1731607200-1731614400@www.fjarasaik.se
SUMMARY:Jogg och bastu vid stugan!
DESCRIPTION:På torsdagar efter 18.00 kör vi joggning runt elljusspåret. Dusch finns i stugan och man kan även basta om man vill. \nAlla är välkomna\, det är bara att dyka upp 🙂 \nHör av dig till Roger om du har frågor. \nRoger Ivarsson\n070-564 44 87\nroger@fjarasaik.se
URL:https://www.fjarasaik.se/event/jogg-och-bastu-vid-stugan-2/
LOCATION:FAIK-Stugan\, Stamvägen 1\, Kungsbacka\, Sverige
CATEGORIES:Socialt,Träning
END:VEVENT
BEGIN:VEVENT
DTSTART;TZID=Europe/Stockholm:20241107T180000
DTEND;TZID=Europe/Stockholm:20241107T200000
DTSTAMP:20260426T053357
CREATED:20241103T184047Z
LAST-MODIFIED:20241103T184047Z
UID:938-1731002400-1731009600@www.fjarasaik.se
SUMMARY:Jogg och bastu vid stugan!
DESCRIPTION:På torsdagar efter 18.00 kör vi joggning runt elljusspåret. Dusch finns i stugan och man kan även basta om man vill. \nAlla är välkomna\, det är bara att dyka upp 🙂 \nHör av dig till Roger om du har frågor. \nRoger Ivarsson\n070-564 44 87\nroger@fjarasaik.se
URL:https://www.fjarasaik.se/event/jogg-och-bastu-vid-stugan/
LOCATION:FAIK-Stugan\, Stamvägen 1\, Kungsbacka\, Sverige
CATEGORIES:Socialt,Träning
END:VEVENT
BEGIN:VEVENT
DTSTART;TZID=Europe/Stockholm:20241026T100000
DTEND;TZID=Europe/Stockholm:20241027T120000
DTSTAMP:20260426T053357
CREATED:20241019T094816Z
LAST-MODIFIED:20241019T095211Z
UID:932-1729936800-1730030400@www.fjarasaik.se
SUMMARY:Orienteringshelg vid Delsjön!
DESCRIPTION:Helgen 26:e / 27:e oktober är en riktig orienteringshelg i Göteborg! \nTävlingar på både lördag och söndag med arena på samma plats. \nLördagens tävling: https://eventor.orientering.se/Events/Show/44806 \nSöndagens tävling: https://eventor.orientering.se/Events/Show/44875 \nAnmäl dig senast imorgon söndag! \n 
URL:https://www.fjarasaik.se/event/orienteringshelg-vid-delsjon/
CATEGORIES:Tävling
END:VEVENT
BEGIN:VEVENT
DTSTART;TZID=Europe/Stockholm:20241015T173000
DTEND;TZID=Europe/Stockholm:20241015T193000
DTSTAMP:20260426T053357
CREATED:20241010T181805Z
LAST-MODIFIED:20241010T181805Z
UID:930-1729013400-1729020600@www.fjarasaik.se
SUMMARY:Tisdagsträning Sprint 4 av 4
DESCRIPTION:Kommande tisdagsträning arrangeras av OK Löftan och går i Fjärås. \nSamling: Fjärås Bräckaskolan i anslutning till skolans parkering\, start och mål i anslutning till parkeringen.\nExakt position finns som vanligt längst ner i aktuellt Eventor evenemang.\nBanor: Lång: ca 3km\, Mellan: ca 2km\, Kort: ca 1\,5km.\nStart: Fri minutstart från 17:30 – ca 18:00\, men bra att vara ute i god tid då det skymmer snabbt. Startstämpling för samtliga löpare. \nAnmälan och mer info i Eventor \nMaila Henrik senast måndag kl. 19:00 om ni inte har möjlighet att anmäla er via Eventor.\n(Skicka då info med namn\, även namn om någon ska skugga\, samt bana) \nOm man saknar en ”sportident-pinne”\, får man låna detta på plats. Men innan man startar behöver man knyta denna pinne till aktuell löpare. Detta görs med hjälp av dom som arrangerar träningen\, vid samma PC som används för att stämpla ut när man kommit i mål\, som finns på plats någonstans vid start / mål. Vi finns på plats för att hjälpa till med detta. \nVid eventuella frågor är det bara att ta kontakt med Henrik så försöker han svara på detta innan Tisdag.
URL:https://www.fjarasaik.se/event/tisdagstraning-sprint-4-av-4/
CATEGORIES:Träning
ORGANIZER;CN="OK L%C3%B6ftan":MAILTO:info@okloftan.se
END:VEVENT
BEGIN:VEVENT
DTSTART;TZID=Europe/Stockholm:20241008T173000
DTEND;TZID=Europe/Stockholm:20241008T193000
DTSTAMP:20260426T053357
CREATED:20241002T194530Z
LAST-MODIFIED:20241002T194530Z
UID:926-1728408600-1728415800@www.fjarasaik.se
SUMMARY:Tisdagstäning Sprint 3 av 4
DESCRIPTION:Kommande tisdagsträning arrangeras av oss\, FAIK\, och går i Fjärås. \nSamling: Fjärås Bräckaskolan i anslutning till skolans parkering\, start och mål i anslutning till parkeringen.\nExakt position finns som vanligt längst ner i aktuellt Eventor evenemang.\nBanor: Lång: ca 3km\, Mellan: ca 2km\, Kort: ca 1\,5km.\nStart: Fri minutstart från 17:30 – ca 18:30\, men bra att vara ute i god tid då det skymmer snabbt. Startstämpling för samtliga löpare. \nAnmälan och mer info i Eventor \nMaila Henrik senast måndag kl. 19:00 om ni inte har möjlighet att anmäla er via Eventor.\n(Skicka då info med namn\, även namn om någon ska skugga\, samt bana) \nOm man saknar en ”sportident-pinne”\, får man låna detta på plats. Men innan man startar behöver man knyta denna pinne till aktuell löpare. Detta görs med hjälp av dom som arrangerar träningen\, vid samma PC som används för att stämpla ut när man kommit i mål\, som finns på plats någonstans vid start / mål. Vi finns på plats för att hjälpa till med detta. \nVid eventuella frågor är det bara att ta kontakt med Henrik så försöker han svara på detta innan Tisdag.
URL:https://www.fjarasaik.se/event/tisdagstaning-sprint-3-av-4/
CATEGORIES:Träning
END:VEVENT
BEGIN:VEVENT
DTSTART;TZID=Europe/Stockholm:20241001T173000
DTEND;TZID=Europe/Stockholm:20241001T193000
DTSTAMP:20260426T053357
CREATED:20240925T192613Z
LAST-MODIFIED:20240925T192921Z
UID:920-1727803800-1727811000@www.fjarasaik.se
SUMMARY:Tisdagsträning Sprint 2 av 4
DESCRIPTION:Kommande tisdagsträning arrangeras av IF Rigor och går i Kolla-området\, Kungsbacka. \nSamling: Norr om Nya ishallen/Skateparken i Kungsbacka .\nExakt position finns som vanligt längst ner i aktuellt Eventor evenemang. \nBanor: Lång: ca 3km (22k)\, Mellan: ca 2km (14k)\, Kort: ca 1\,5km (11k) \nStart: Fri minutstart från 17:30 – ca 18:30\, men bra att vara ute i god tid då det skymmer snabbt.\nStartstämpling för samtliga löpare. \nAnmälan och mer info i Eventor. \nMaila Henrik senast måndag kl. 19\,00 om ni inte har möjlighet att anmäla er via Eventor.\n(Meddela namn\, även namn om någon ska skugga\, samt bana) \nOm man anmäler sig via Eventor eller via mail\, men saknar en ”sportident-pinne”\, så får man låna detta på plats.\nObservera att innan man startar behöver man knyta denna pinne till aktuell löpare. Detta görs med hjälp av dom som arrangerar träningen\, vid samma PC som används för att stämpla ut när man kommit in i mål. \nVid eventuella frågor är det bara att ta kontakt med Henrik så försöker han svara på detta innan Tisdag. \n 
URL:https://www.fjarasaik.se/event/tisdagstraning-sprint-2-av-4/
CATEGORIES:Träning
END:VEVENT
BEGIN:VEVENT
DTSTART;TZID=Europe/Stockholm:20240924T173000
DTEND;TZID=Europe/Stockholm:20240924T193000
DTSTAMP:20260426T053357
CREATED:20240920T162612Z
LAST-MODIFIED:20240920T163022Z
UID:914-1727199000-1727206200@www.fjarasaik.se
SUMMARY:Tisdagsträning Sprint 1 av 4
DESCRIPTION:Kommande tisdagsträning arrangeras av OK Löftan och går i Veddige. \nSamling: Vidhögeskolan\, Veddige. Exakt position finns som vanligt längst ner i aktuellt Eventor evenemang.\nBanor: Lång 3\,2 km\, Mellan 2\,1 km samt Kort 1\,5 km.\nStart: Fri minutstart från 17:30. Startstämpling för samtliga löpare. \nAnmälan och mer info i Eventor: \nMaila Henrik senast måndag kl. 19\,00 om ni inte har möjlighet att anmäla er via Eventor.\n(Skicka då info med namn\, även namn om någon ska skugga\, samt bana) \nDå sprint är nytt för många är det bra att komma i tid\, så vi hinner dela ut ”pinnar” och gå igenom eventuella frågor om vad som ska göras osv. Det är absolut inget svårt och vi löser allt på plats så att alla känner sig bekväma med vad som ska göras.\nDet ska även gå bra att anmäla sig till mig via mail om man önskar vara med\, men vill inte använda sportident för tidtagning\, utan man vill bara ta sin karta och göra som vi gjort på tidigare träningar. \nVid eventuella frågor är det bara att ta kontakt med Henrik så försöker han svara på detta innan Tisdag. \n  \n 
URL:https://www.fjarasaik.se/event/tisdagstraning-sprint-1-av-4/
CATEGORIES:Träning
ORGANIZER;CN="OK L%C3%B6ftan":MAILTO:info@okloftan.se
END:VEVENT
BEGIN:VEVENT
DTSTART;TZID=Europe/Stockholm:20240917T180000
DTEND;TZID=Europe/Stockholm:20240917T200000
DTSTAMP:20260426T053357
CREATED:20240911T194623Z
LAST-MODIFIED:20240911T195235Z
UID:907-1726596000-1726603200@www.fjarasaik.se
SUMMARY:Tisdagsträning
DESCRIPTION:Kommande tisdagsträning arrangeras av oss i FAIK och går vid Tjolöholm. \nDe längre/svårare banorna går i Storeskog (följ vägen väster ut från parkeringen). De kortare/enklare går i skogen nära slottet. \nBanor:\nVit 2 km\, Gul 3 km\, Orange 3 km\, Svart 3 km\, Svart 5 km och Svart 7 km. \nSamling:\nVid parkeringen 18.00. Kom i tid om du skall springa en längre bana eftersom det mörknar på tidigare nu.\nExakt adress hittar du här. \nAnmälan och mer info på Eventor \nMaila Henrik senast måndag kl. 20 om ni inte har möjlighet att anmäla er via Eventor. \nOm du vill ha hjälp med att gå igenom banan innan du springer iväg\, så kommer vi finnas till hands för detta vid 17:40.\nAlla som känner sig osäkra kan då få en genomgång av den bana man anmält sig på.\nVill man så får man gärna springa tillsammans med andra medlemmar\, men det är inte säkert att det finns ledare som kan springa med gruppen.
URL:https://www.fjarasaik.se/event/tisdagstraning-10/
CATEGORIES:Träning
END:VEVENT
BEGIN:VEVENT
DTSTART;TZID=Europe/Stockholm:20240910T180000
DTEND;TZID=Europe/Stockholm:20240910T200000
DTSTAMP:20260426T053357
CREATED:20240907T192746Z
LAST-MODIFIED:20240907T192932Z
UID:903-1725991200-1725998400@www.fjarasaik.se
SUMMARY:Tisdagsträning
DESCRIPTION:Kommande tisdagsträning arrangeras av OK Löftan och går ute i Biskopshagens naturreservat vid Ringhals. \nBanor:\nVit\, gul\, orange\, svart kort\, svart mellan och svart lång.\n(Exakta banlängder kommer att visas i Eventor inom kort) \nSamling:\nLängst bort på stora parkeringen mot Viderbergs hamn.\n57°15’12.7″N 12°06’42.1″E – Google Maps \nAnmälan och mer info i Eventor\nHar man inte Eventor kan man maila henrik@smartretur.se senast måndag kl. 20.
URL:https://www.fjarasaik.se/event/tisdagastraning/
CATEGORIES:Träning
ORGANIZER;CN="OK L%C3%B6ftan":MAILTO:info@okloftan.se
END:VEVENT
BEGIN:VEVENT
DTSTART;TZID=Europe/Stockholm:20240905T180000
DTEND;TZID=Europe/Stockholm:20240905T203000
DTSTAMP:20260426T053357
CREATED:20240826T172334Z
LAST-MODIFIED:20240826T174517Z
UID:878-1725559200-1725568200@www.fjarasaik.se
SUMMARY:Torsdagsträning - Nybörjare
DESCRIPTION:Torsdagen den 5:e september kommer vi att arrangera ett träningstillfälle för dig som är nybörjare (oavsett om du är barn\, ungdom eller vuxen). Det går också bra att komma som icke-nybörjare\, men det kommer inte att finnas några svåra eller långa banor. \nVi samlas kl 18:00 vid informationstavlan i Gäddevik naturreservat\, vid Lygnerns södra strand:\nhttps://maps.app.goo.gl/he9oMbd4ZWPJDaqGA \nParkerar gör man vid de olika parkeringsfickorna längs med Tostaredsvägen. Ställ bilarna så att många får plats. \nVi kommer först ha en kort\, gemensam samling där vi går igenom dagens karta. Kartorna kommer vara på vit/gul samt orange/röd nivå. Efter detta tar vi i grupp oss igenom banan gåendes eller i lätt jogg – så att alla i gruppen orkar hänga på.\nVi tar med kompasser för den som vill känna på det.\nVill man springa själv går det också självklart bra. \nSäg till om det finns önskemål om enskild skuggning så skall vi se till vad vi kan erbjuda. \nSkriv i din anmälan vilken bana som är intressant och om du vill orientera i grupp\, enskilt/förälder som skugga eller med klubbkompis som skugga. \nFör dig som förälder med barn som går i grupp/skuggas av annan finns det möjlighet att pröva på egen bana. \nHar ni familj eller vänner som är intresserade av att testa på orientering så är denna kvällen ett bra tillfälle! \nDu anmäler dig senast onsdagen den 4:e september kl 20.00 antingen genom att mejla Henrik på henrik@smartretur.se eller på följande länk i Eventor:\nhttps://eventor.orientering.se/Activities/Show/21587
URL:https://www.fjarasaik.se/event/torsdagstraning-nyborjare/
CATEGORIES:Träning
END:VEVENT
BEGIN:VEVENT
DTSTART;TZID=Europe/Stockholm:20240903T180000
DTEND;TZID=Europe/Stockholm:20240903T200000
DTSTAMP:20260426T053357
CREATED:20240830T192305Z
LAST-MODIFIED:20240830T192324Z
UID:889-1725386400-1725393600@www.fjarasaik.se
SUMMARY:Tisdagsträning
DESCRIPTION:Kommande tisdagsträning 3/9 arrangeras av IF Rigor och går i Fors.\nDet är snabblöpt och mestadels mycket bra sikt. Ta en längre bana än du brukar och njut av pelarsalarna. \nBanor:\nVit 2 km\nGul 2\,5 km\nOrange 3 km\nSvart kort 3\,3 km\nSvart mellan 4 km\nSvart lång 5\,5 km \nSamling:\nKlarinettvägens gemensamhetslokal\, Klarinettvägen 39 (Klockan 18\,00) \nParkering:\nForsgläntans idrottshall \nAnmälan och mer info i Eventor: \nHar man inte Eventor så kan man maila till henrik@smartretur.se senast måndag klockan 20:00.
URL:https://www.fjarasaik.se/event/tisdgstraning/
CATEGORIES:Träning
END:VEVENT
BEGIN:VEVENT
DTSTART;TZID=Europe/Stockholm:20240827T173000
DTEND;TZID=Europe/Stockholm:20240827T210000
DTSTAMP:20260426T053357
CREATED:20240813T211458Z
LAST-MODIFIED:20240821T200125Z
UID:859-1724779800-1724792400@www.fjarasaik.se
SUMMARY:Klubbmästerskap 2024
DESCRIPTION:Inbjudan till Klubbmästerskap för Fjärås AIK\, OK Löftan och IF Rigor. \n  \nNär: tisdag 27 augusti 17:30 \nVart: Breared\, grusplanen vid första vindkraftverket uppe på åsen. Vägvisning från Brearedsvägen. Start och Mål i anslutning till parkeringen. \nKarta: Brearedskartan\, samtliga banor har skala 1:7 500. Inga lösa definitioner. \nStart: Fri minutstart på samtliga banor mellan 17:30 och 18:30. \nAnmälan: Sker via Eventor. Sista anmälningsdag söndag 25 augusti klockan 23:59. \n  \nAlla klasser för FAIK:are börjar med ”Fjärås-…. ” \nPå motsvarande sätt finns det klasser för Löftan och Rigor så ni får bläddra lite i listan när ni anmäler er. \nDessa klasser finns: \nFjärås-Dam                     svart 3.5 km \nFjärås-Herr                     svart 3.5 km \nFjärås-Motion-Dam      gul 2.5 km \nFjärås-Motion-Herr       orange 3.5 km \nFjärås- D14                      orange 3.5 km \nFjärås-H14                       orange 3.5 km \nFjärås-D12                       gul 2.5 km \nFjärås-H12                       gul 2.5 km \nFjärås-Nybörjare            vit 2.0 km \n  \nVid fler frågor vänligen kontakta Lennart Nyberg\, 073 – 519 01 00\, nyberg.lennart@outlook.com
URL:https://www.fjarasaik.se/event/klubbmasterskap-2024/
CATEGORIES:Tävling
END:VEVENT
BEGIN:VEVENT
DTSTART;TZID=Europe/Stockholm:20240825T100000
DTEND;TZID=Europe/Stockholm:20240825T140000
DTSTAMP:20260426T053357
CREATED:20240810T142550Z
LAST-MODIFIED:20240810T142728Z
UID:777-1724580000-1724594400@www.fjarasaik.se
SUMMARY:Distriktsmästerskap - Stafett
DESCRIPTION:Nu är det dags för Distriktsmästerskap\, DM Halland i Kungsbacka.\nDagens tävling kommer att äga rum i Forsskogen och det är stafett som gäller. \nIntresseanmälan sker via e-post till bosse.melin@live.se. Därefter försöker vi sätta ihop lag.
URL:https://www.fjarasaik.se/event/distriktsmasterskap-stafett/
CATEGORIES:Tävling
END:VEVENT
BEGIN:VEVENT
DTSTART;TZID=Europe/Stockholm:20240824T100000
DTEND;TZID=Europe/Stockholm:20240824T140000
DTSTAMP:20260426T053357
CREATED:20240810T141419Z
LAST-MODIFIED:20240810T141820Z
UID:771-1724493600-1724508000@www.fjarasaik.se
SUMMARY:Distriktsmästerskap - Medeldistans
DESCRIPTION:Nu är det dags för Distriktsmästerskap\, DM Halland i Kungsbacka.\nDagens tävling kommer att äga rum i Forsskogen och det är DM i medeldistans. \nAnmälan via Eventor och vi hoppas att ni vill vara med.
URL:https://www.fjarasaik.se/event/distriktsmasterskap/
CATEGORIES:Tävling
END:VEVENT
BEGIN:VEVENT
DTSTART;TZID=Europe/Stockholm:20240820T180000
DTEND;TZID=Europe/Stockholm:20240820T200000
DTSTAMP:20260426T053357
CREATED:20240815T122410Z
LAST-MODIFIED:20240815T122818Z
UID:864-1724176800-1724184000@www.fjarasaik.se
SUMMARY:Tisdagsträning
DESCRIPTION:Denna tisdag är orienteringsträningen vid Lillesjöstugan. \n\n\n\nInfo och anmälan på Eventor. \n\n\n\n\nHar man inte Eventor så kan man maila till:\nhenrik@smartretur.se
URL:https://www.fjarasaik.se/event/tisdagstraning-9/
CATEGORIES:Träning
ORGANIZER;CN="OK L%C3%B6ftan":MAILTO:info@okloftan.se
END:VEVENT
BEGIN:VEVENT
DTSTART;TZID=Europe/Stockholm:20240813T180000
DTEND;TZID=Europe/Stockholm:20240813T200000
DTSTAMP:20260426T053357
CREATED:20240809T082455Z
LAST-MODIFIED:20240809T082455Z
UID:690-1723572000-1723579200@www.fjarasaik.se
SUMMARY:Tisdagsträning 13/8: Fixsjön
DESCRIPTION:Träning tisdagen den 13/8 går vid Fixsjön öster om Allarängen och temat är OL-teknik.\n \nTa med badkläder vid fint väder\, träningen går nära en badplats 🙂 \n\n\nInfo och anmälan på Eventor.
URL:https://www.fjarasaik.se/event/tisdagstraning-13-8-fixsjon/
CATEGORIES:Träning
END:VEVENT
BEGIN:VEVENT
DTSTART;TZID=Europe/Stockholm:20240618T180000
DTEND;TZID=Europe/Stockholm:20240618T210000
DTSTAMP:20260426T053357
CREATED:20240429T065420Z
LAST-MODIFIED:20240429T065420Z
UID:668-1718733600-1718744400@www.fjarasaik.se
SUMMARY:Minitjoget i Sätila
DESCRIPTION:Tisdagen den 18:e juni går Minitjoget i Sätila nere vid stranden i Lygnevi: https://eventor.orientering.se/Events/Show/48411 \nMinitjoget är en stafett där alla kan delta\, gammal som ung\, nybörjare som erfaren – det handlar mer om att göra en kul grej ihop än att vinna. Traditionsenligt finns det en kontroll ute i vattnet som alla deltagare passerar. Fjärås AIK brukar ha lag med varje år. \nDet vore kul om du var med. Hör av dig till Karin så samordnar hon och bygger Fjärås olika lag: 0733 990903 eller karin@fjarasaik.se
URL:https://www.fjarasaik.se/event/minitjoget-i-satila-2/
CATEGORIES:Socialt,Tävling
END:VEVENT
BEGIN:VEVENT
DTSTART;TZID=Europe/Stockholm:20240427T110000
DTEND;TZID=Europe/Stockholm:20240427T160000
DTSTAMP:20260426T053357
CREATED:20240422T185807Z
LAST-MODIFIED:20240422T185832Z
UID:664-1714215600-1714233600@www.fjarasaik.se
SUMMARY:Kungsbacka Outdoor Festival
DESCRIPTION:Kom och träffa oss på Kungsbacka Outdoor Festival den 27:e mellan 11:00 och 16:00. Vi säljer Naturpasset på Tjolöholm och lär dig allt du vill veta om världens bästa ungdoms- och vuxensport.
URL:https://www.fjarasaik.se/event/664/
CATEGORIES:Möten
END:VEVENT
BEGIN:VEVENT
DTSTART;TZID=Europe/Stockholm:20240421T103000
DTEND;TZID=Europe/Stockholm:20240421T123000
DTSTAMP:20260426T053357
CREATED:20240306T081708Z
LAST-MODIFIED:20240306T081708Z
UID:656-1713695400-1713702600@www.fjarasaik.se
SUMMARY:Herkules skogsdåd
DESCRIPTION:
URL:https://www.fjarasaik.se/event/herkules-skogsdad-2/
END:VEVENT
BEGIN:VEVENT
DTSTART;TZID=Europe/Stockholm:20240414T100000
DTEND;TZID=Europe/Stockholm:20240414T120000
DTSTAMP:20260426T053357
CREATED:20240306T081503Z
LAST-MODIFIED:20240306T081503Z
UID:653-1713088800-1713096000@www.fjarasaik.se
SUMMARY:Göteborgsdubbeln medel
DESCRIPTION:
URL:https://www.fjarasaik.se/event/goteborgsdubbeln-medel-2/
END:VEVENT
BEGIN:VEVENT
DTSTART;TZID=Europe/Stockholm:20240413T100000
DTEND;TZID=Europe/Stockholm:20240413T120000
DTSTAMP:20260426T053357
CREATED:20240306T081314Z
LAST-MODIFIED:20240306T081314Z
UID:651-1713002400-1713009600@www.fjarasaik.se
SUMMARY:Göteborgsdubbeln lång
DESCRIPTION:
URL:https://www.fjarasaik.se/event/goteborgsdubbeln-lang-2/
END:VEVENT
BEGIN:VEVENT
DTSTART;TZID=Europe/Stockholm:20240402T180000
DTEND;TZID=Europe/Stockholm:20240402T200000
DTSTAMP:20260426T053357
CREATED:20240326T221110Z
LAST-MODIFIED:20240326T221110Z
UID:661-1712080800-1712088000@www.fjarasaik.se
SUMMARY:Tisdagsträning
DESCRIPTION:
URL:https://www.fjarasaik.se/event/tisdagstraning-8/
LOCATION:Rigortorpet
END:VEVENT
BEGIN:VEVENT
DTSTART;TZID=Europe/Stockholm:20240401T100000
DTEND;TZID=Europe/Stockholm:20240401T120000
DTSTAMP:20260426T053357
CREATED:20240306T081034Z
LAST-MODIFIED:20240306T081034Z
UID:649-1711965600-1711972800@www.fjarasaik.se
SUMMARY:Snötrampen
DESCRIPTION:
URL:https://www.fjarasaik.se/event/snotrampen-2/
LOCATION:Stättared
END:VEVENT
END:VCALENDAR