BEGIN:VCALENDAR
VERSION:2.0
PRODID:-//Fjärås AIK - ECPv6.7.0//NONSGML v1.0//EN
CALSCALE:GREGORIAN
METHOD:PUBLISH
X-WR-CALNAME:Fjärås AIK
X-ORIGINAL-URL:https://www.fjarasaik.se
X-WR-CALDESC:Events for Fjärås AIK
REFRESH-INTERVAL;VALUE=DURATION:PT1H
X-Robots-Tag:noindex
X-PUBLISHED-TTL:PT1H
BEGIN:VTIMEZONE
TZID:Europe/Stockholm
BEGIN:DAYLIGHT
TZOFFSETFROM:+0100
TZOFFSETTO:+0200
TZNAME:CEST
DTSTART:20250330T010000
END:DAYLIGHT
BEGIN:STANDARD
TZOFFSETFROM:+0200
TZOFFSETTO:+0100
TZNAME:CET
DTSTART:20251026T010000
END:STANDARD
END:VTIMEZONE
BEGIN:VEVENT
DTSTART;TZID=Europe/Stockholm:20250909T180000
DTEND;TZID=Europe/Stockholm:20250909T200000
DTSTAMP:20260426T043734
CREATED:20250904T170323Z
LAST-MODIFIED:20250904T170323Z
UID:1204-1757440800-1757448000@www.fjarasaik.se
SUMMARY:Tisdagsträning 9/9
DESCRIPTION:På tisdag 9/9 blir det OL-banor vid FAIK-stugan \nSamling vid FAIK-stugan: https://maps.app.goo.gl/reMX2KZhgbjiNynK7 \nDu anmäler dig på Eventor https://eventor.orientering.se/Activities/Show/24398 eller till Torbjörn på halvarsson.torbjorn@gmail.com eller 0702-5725580 senast måndag. \nPassa på att vara med nu – snart tar tisdagsträningarna tyvärr vinteruppehåll på grund av att det blir så mörkt på kvällarna! \n 
URL:https://www.fjarasaik.se/event/tisdagstraning-9-9/
LOCATION:FAIK-Stugan\, Stamvägen 1\, Kungsbacka\, Sverige
CATEGORIES:Träning
END:VEVENT
BEGIN:VEVENT
DTSTART;TZID=Europe/Stockholm:20250906T100000
DTEND;TZID=Europe/Stockholm:20250906T120000
DTSTAMP:20260426T043734
CREATED:20250721T070715Z
LAST-MODIFIED:20250721T070715Z
UID:1177-1757152800-1757160000@www.fjarasaik.se
SUMMARY:DM\, medel\, Halland
DESCRIPTION:
URL:https://www.fjarasaik.se/event/dm-medel-halland/
END:VEVENT
BEGIN:VEVENT
DTSTART;TZID=Europe/Stockholm:20250830T100000
DTEND;TZID=Europe/Stockholm:20250830T110000
DTSTAMP:20260426T043734
CREATED:20250808T132411Z
LAST-MODIFIED:20250817T170435Z
UID:1184-1756548000-1756551600@www.fjarasaik.se
SUMMARY:Prova-på 30/8 kl 10-11
DESCRIPTION:Fjärås AIK bjuder in till prova på-tillfälle\, lördagen den 30/8 i Fjärås. För alla ungdomar från 8 år och vuxna. \nEfter en snabb (frivillig) genomgång av grunderna går/joggar du med förälder (barn) eller själv (vuxen) en enkel eller lite svårare orienteringsbana. \nOrientering är en fantastisk idrott och gemenskap. Man kan börja i orientering från ca 8 år och det finns ingen övre gräns\, även som vuxen eller senior kan man börja utöva idrotten. Du behöver absolut inte vara vältränad – det finns banor som man kan gå runt. Om du redan tränar kan orientering hjälpa dig att förbättra koordination\, styrka och uthållighet.\nNär: Lördagen den 30 augusti\, klockan 10.00 – 11.00\nPlats: Smedingeskolan vid Fjärås Idrottscenter\nKostnad: Gratis\nAnmälan – OBS det är viktigt att du anmäler dig: Senast torsdagen 28/8 till robert@fjarasaik.se \nLänkar: \n\nInformation om orientering\nOrientering i Kungsbacka
URL:https://www.fjarasaik.se/event/prova-pa-31-8-kl-10-11/
CATEGORIES:Träning
END:VEVENT
BEGIN:VEVENT
DTSTART;TZID=Europe/Stockholm:20250830T080000
DTEND;TZID=Europe/Stockholm:20250830T170000
DTSTAMP:20260426T043734
CREATED:20250830T183105Z
LAST-MODIFIED:20250830T183105Z
UID:1202-1756540800-1756573200@www.fjarasaik.se
SUMMARY:Tisdagsträning 2/9
DESCRIPTION:Träning: Tisdagen den 2:e september \nPå tisdag 2/9 blir det OL-banor på Älvsåkerskartan. \nSamling vid Älvsåkersskolan: https://maps.app.goo.gl/cR1kjUV1gS9bEBZt7 \nBanor: Vit\, gul\, orange\, svart 3\, svart 5 och svart 7. \nSkala: 1:7 500 \nDu anmäler dig på Eventor https://eventor.orientering.se/Activities/Show/24357 eller till Robert på robert@fjarasaik.se eller 0707-128162 senast måndag. \n  \n 
URL:https://www.fjarasaik.se/event/tisdagstraning-2-9/
CATEGORIES:Träning
END:VEVENT
BEGIN:VEVENT
DTSTART;TZID=Europe/Stockholm:20250829T080000
DTEND;TZID=Europe/Stockholm:20250831T170000
DTSTAMP:20260426T043734
CREATED:20250721T070533Z
LAST-MODIFIED:20250721T070533Z
UID:1175-1756454400-1756659600@www.fjarasaik.se
SUMMARY:Göteborg O-meeting
DESCRIPTION:
URL:https://www.fjarasaik.se/event/goteborg-o-meeting/
END:VEVENT
BEGIN:VEVENT
DTSTART;TZID=Europe/Stockholm:20250824T100000
DTEND;TZID=Europe/Stockholm:20250824T120000
DTSTAMP:20260426T043734
CREATED:20250721T070330Z
LAST-MODIFIED:20250721T070330Z
UID:1173-1756029600-1756036800@www.fjarasaik.se
SUMMARY:Hjortsöndan\, medel
DESCRIPTION:
URL:https://www.fjarasaik.se/event/hjortsondan-medel/
END:VEVENT
BEGIN:VEVENT
DTSTART;TZID=Europe/Stockholm:20250824T100000
DTEND;TZID=Europe/Stockholm:20250824T120000
DTSTAMP:20260426T043734
CREATED:20250721T070147Z
LAST-MODIFIED:20250721T070147Z
UID:1171-1756029600-1756036800@www.fjarasaik.se
SUMMARY:Friskus Sommarsprint Cup
DESCRIPTION:
URL:https://www.fjarasaik.se/event/friskus-sommarsprint-cup/
END:VEVENT
BEGIN:VEVENT
DTSTART;TZID=Europe/Stockholm:20250823T103000
DTEND;TZID=Europe/Stockholm:20250823T123000
DTSTAMP:20260426T043734
CREATED:20250719T143846Z
LAST-MODIFIED:20250719T143846Z
UID:1166-1755945000-1755952200@www.fjarasaik.se
SUMMARY:Norra Hallands ungdomsserie etapp 5
DESCRIPTION:
URL:https://www.fjarasaik.se/event/norra-hallands-ungdomsserie-etapp-5-2/
END:VEVENT
BEGIN:VEVENT
DTSTART;TZID=Europe/Stockholm:20250819T180000
DTEND;TZID=Europe/Stockholm:20250819T200000
DTSTAMP:20260426T043734
CREATED:20250810T123850Z
LAST-MODIFIED:20250810T123850Z
UID:1187-1755626400-1755633600@www.fjarasaik.se
SUMMARY:Klubbmästerskap 19/8
DESCRIPTION:KM 2025 går den 19/8. Mer info kommer!
URL:https://www.fjarasaik.se/event/klubbmasterskap-19-8/
CATEGORIES:Tävling,Träning
END:VEVENT
BEGIN:VEVENT
DTSTART;TZID=Europe/Stockholm:20250817T100000
DTEND;TZID=Europe/Stockholm:20250817T120000
DTSTAMP:20260426T043734
CREATED:20250721T070031Z
LAST-MODIFIED:20250721T070031Z
UID:1169-1755424800-1755432000@www.fjarasaik.se
SUMMARY:PreO\, DM\, Halland
DESCRIPTION:
URL:https://www.fjarasaik.se/event/preo-dm-halland/
END:VEVENT
BEGIN:VEVENT
DTSTART;TZID=Europe/Stockholm:20250816T103000
DTEND;TZID=Europe/Stockholm:20250816T120000
DTSTAMP:20260426T043734
CREATED:20250719T143709Z
LAST-MODIFIED:20250719T143709Z
UID:1164-1755340200-1755345600@www.fjarasaik.se
SUMMARY:Norra Hallands Ungdomsserie etapp 4
DESCRIPTION:
URL:https://www.fjarasaik.se/event/norra-hallands-ungdomsserie-etapp-4-2/
END:VEVENT
BEGIN:VEVENT
DTSTART;TZID=Europe/Stockholm:20250812T180000
DTEND;TZID=Europe/Stockholm:20250812T200000
DTSTAMP:20260426T043734
CREATED:20250808T132312Z
LAST-MODIFIED:20250808T132312Z
UID:1182-1755021600-1755028800@www.fjarasaik.se
SUMMARY:Tisdagsträning 12/8 Baltared
DESCRIPTION:Äntligen kör tisdagsträningarna igång!\n\n\nDen 12/8 kl 18.00\, vi samlas vid Baltaredsvägen 45\, vägvisning från Allarängen. Du anmäler dig här https://eventor.orientering.se/Activities/Show/24099 eller till robert@fjarasaik.se eller 0707-128162\n\n\nSäg gärna till i förväg om du som inte är medlem ännu kommer och vill pröva på\, du är alltid hjärtligt välkommen. Säger du till innan har vi större möjligheter att välkomna dig och ge dig tid och visa hur det går till
URL:https://www.fjarasaik.se/event/tisdagstraning-12-8-baltared/
CATEGORIES:Träning
END:VEVENT
BEGIN:VEVENT
DTSTART;TZID=Europe/Stockholm:20250711T080000
DTEND;TZID=Europe/Stockholm:20250713T140000
DTSTAMP:20260426T043734
CREATED:20250119T184321Z
LAST-MODIFIED:20250216T091919Z
UID:1038-1752220800-1752415200@www.fjarasaik.se
SUMMARY:Hallands 3-dagars 11-13 juli
DESCRIPTION:Upplev en härlig orienteringshelg mitt i högsommaren i natursköna Halland! I södra delen av\nKungsbacka kommun (ca. 5 mil söder om Göteborg)\, finns både de kluriga Idala-skogarna\,\ndär lång-SM avgjordes 2007\, och havet med stränder och klippor för kvällsdopp. OK Löftan\,\nFjärås AIK och IF Rigor bjuder in till tre dagar fyllda med spänning\, glädje och gemenskap.\nMed samma arena alla dagar och camping i direkt anslutning så är det enkelt och bekvämt\natt vara med på detta orienteringsäventyr. Avslutningsvis väntar en spännande jaktstart för\natt kröna helgen. \nMer info och anmälan på Eventor: https://eventor.orientering.se/Events/Show/47583 \nInfo\, orientering.se: https://www.orientering.se/halland/hallands-3-dagars/ \n  \n  \n 
URL:https://www.fjarasaik.se/event/hallands-3-dagars-11-13-juli/
CATEGORIES:Tävling
END:VEVENT
BEGIN:VEVENT
DTSTART;TZID=Europe/Stockholm:20250617T183000
DTEND;TZID=Europe/Stockholm:20250617T203000
DTSTAMP:20260426T043734
CREATED:20250423T070142Z
LAST-MODIFIED:20250423T070142Z
UID:1138-1750185000-1750192200@www.fjarasaik.se
SUMMARY:Minitjoget i Sätila
DESCRIPTION:
URL:https://www.fjarasaik.se/event/minitjoget-i-satila-3/
END:VEVENT
BEGIN:VEVENT
DTSTART;TZID=Europe/Stockholm:20250610T180000
DTEND;TZID=Europe/Stockholm:20250610T200000
DTSTAMP:20260426T043734
CREATED:20250605T153601Z
LAST-MODIFIED:20250605T153601Z
UID:1161-1749578400-1749585600@www.fjarasaik.se
SUMMARY:Tisdagsträning 10/6 vid Skärsjön
DESCRIPTION:Kommande träning i orientering blir tisdagen den 10/6 kl 18.00\, vi samlas på parkeringsytan vid Skärsjöns södra spets:\nhttps://maps.app.goo.gl/AwGgJGB9erSQdj9P9 \nDu anmäler dig här: https://eventor.orientering.se/Activities/Show/23857 \nEller till Robert på robert@fjarasaik.se eller 0707-128162 \nDu anmäler dig senast måndag kl 20.00 – ange önskad bana. \nSäg gärna till i förväg om du som inte är medlem ännu kommer och vill pröva på\, du är hjärtligt välkommen. Säger du till innan har vi större möjligheter att välkomna dig och ge dig tid och visa hur det går till 🙂
URL:https://www.fjarasaik.se/event/tisdagstraning-10-6-vid-skarsjon/
CATEGORIES:Träning
END:VEVENT
BEGIN:VEVENT
DTSTART;TZID=Europe/Stockholm:20250608T083000
DTEND;TZID=Europe/Stockholm:20250608T103000
DTSTAMP:20260426T043734
CREATED:20250423T065934Z
LAST-MODIFIED:20250423T065934Z
UID:1136-1749371400-1749378600@www.fjarasaik.se
SUMMARY:Sommarlandssprinten
DESCRIPTION:
URL:https://www.fjarasaik.se/event/sommarlandssprinten-3/
END:VEVENT
BEGIN:VEVENT
DTSTART;TZID=Europe/Stockholm:20250606T100000
DTEND;TZID=Europe/Stockholm:20250606T120000
DTSTAMP:20260426T043734
CREATED:20250423T065753Z
LAST-MODIFIED:20250423T065753Z
UID:1134-1749204000-1749211200@www.fjarasaik.se
SUMMARY:DM\, sprint\, Halland
DESCRIPTION:
URL:https://www.fjarasaik.se/event/dm-sprint-halland-2/
END:VEVENT
BEGIN:VEVENT
DTSTART;TZID=Europe/Stockholm:20250529T103000
DTEND;TZID=Europe/Stockholm:20250529T123000
DTSTAMP:20260426T043734
CREATED:20250423T065517Z
LAST-MODIFIED:20250423T065517Z
UID:1132-1748514600-1748521800@www.fjarasaik.se
SUMMARY:Norra Hallands ungdomsserie etapp 3
DESCRIPTION:
URL:https://www.fjarasaik.se/event/norra-hallands-ungdomsserie-etapp-3/
END:VEVENT
BEGIN:VEVENT
DTSTART;TZID=Europe/Stockholm:20250527T180000
DTEND;TZID=Europe/Stockholm:20250527T200000
DTSTAMP:20260426T043734
CREATED:20250522T181017Z
LAST-MODIFIED:20250522T181017Z
UID:1159-1748368800-1748376000@www.fjarasaik.se
SUMMARY:Tisdagsträning 27/5 vid Lillesjön
DESCRIPTION:Kommande träning i orientering blir tisdagen den 27/5 kl 18.00 vid Lillesjöstugan \nDu anmäler dig här: https://eventor.orientering.se/Activities/Show/23738 \nEller till Robert på robert@fjarasaik.se eller 0707-128162 \nDu anmäler dig senast måndag kl 20.00 – ange önskad bana. Skulle du anmäla dig sent är det OK\, men anmäl dig jättegärna i tid. \nSäg till i förväg om du som inte är medlem ännu kommer och vill pröva på. Säger du till innan har vi större möjligheter att välkomna dig och ge dig tid och visa hur det går till 🙂
URL:https://www.fjarasaik.se/event/tisdagstraning-27-5-vid-lillesjon/
CATEGORIES:Träning
END:VEVENT
BEGIN:VEVENT
DTSTART;TZID=Europe/Stockholm:20250524T103000
DTEND;TZID=Europe/Stockholm:20250524T123000
DTSTAMP:20260426T043734
CREATED:20250423T065403Z
LAST-MODIFIED:20250423T065403Z
UID:1130-1748082600-1748089800@www.fjarasaik.se
SUMMARY:Norra Hallands Ungdomserie etapp 2
DESCRIPTION:
URL:https://www.fjarasaik.se/event/norra-hallands-ungdomserie-etapp-2/
END:VEVENT
BEGIN:VEVENT
DTSTART;TZID=Europe/Stockholm:20250522T180000
DTEND;TZID=Europe/Stockholm:20250522T200000
DTSTAMP:20260426T043734
CREATED:20250518T083301Z
LAST-MODIFIED:20250518T083301Z
UID:1157-1747936800-1747944000@www.fjarasaik.se
SUMMARY:Kompassträning 22/5 i Kungsbackaskogen
DESCRIPTION:Torsdagen den 22:e maj kl 18.00 har vi kompassträning i Kungsbackaskogen. \nÖvningarna fungerar för dig från ca 10 år som redan vet hur man passar kartan med kompassen. Även bra för vuxna\, både erfarna och nybörjare.\nDu som inte har hunnit bli medlem ännu är såklart också välkommen. \nVi springer korta enkla sträckor (alla kör med samma svårighetsgrad) där vi fokuserar på att testa/utvärdera olika metoder för hur man kan nyttja kompassen. Innan har vi en kort genomgång – uppskattat om även mer erfarna delar med sig med sina med tips\, erfarenheter och idéer. Jag tar med mig klubbens lånekompasser. \nDu anmäler dig här: https://eventor.orientering.se/Activities/Show/23740 \nHör av dig till Robert om du har frågor\, funderingar eller om du inte kan anmäla dig via Eventor: robert@fjarasaik.se eller 0707-128162
URL:https://www.fjarasaik.se/event/kompasstraning-22-5-i-kungsbackaskogen/
CATEGORIES:Träning
END:VEVENT
BEGIN:VEVENT
DTSTART;TZID=Europe/Stockholm:20250520T180000
DTEND;TZID=Europe/Stockholm:20250520T200000
DTSTAMP:20260426T043734
CREATED:20250515T173629Z
LAST-MODIFIED:20250515T173654Z
UID:1152-1747764000-1747771200@www.fjarasaik.se
SUMMARY:Tisdagsträning 20/5
DESCRIPTION:Kommande träning i orientering blir tisdagen den 20/5 kl 18.00 vid FAIK-stugan. \nOm några veckor är det sommaruppehåll\, så passa på att vara med på träningarna nu! 🙂 Detta är ett bra tillfälle för dig som vill komma och prova på! Och om du har provat på tidigare och vill prova på fler gånger går det också såklart utmärkt att komma. Extra kul vid vår egna klubbstuga FAIK-stugan! \nHär hittar du FAIK-stugan: https://maps.app.goo.gl/p3FLVYZytQR8UYgo6 \nDu anmäler dig här: https://eventor.orientering.se/Activities/Show/23716 \nEller till Torbjörn på halvarsson.torbjorn@gmail.com eller 0725-725580 \nDu anmäler dig senast måndag kl 20.00 – ange önskad bana. \nSäg till i förväg om du som inte är medlem ännu kommer och vill pröva på. Säger du till innan har vi större möjligheter att välkomna dig och ge dig tid och visa hur det går till 🙂
URL:https://www.fjarasaik.se/event/tisdagstraning-20-5/
LOCATION:FAIK-Stugan\, Stamvägen 1\, Kungsbacka\, Sverige
CATEGORIES:Socialt,Träning
END:VEVENT
BEGIN:VEVENT
DTSTART;TZID=Europe/Stockholm:20250517T103000
DTEND;TZID=Europe/Stockholm:20250517T123000
DTSTAMP:20260426T043734
CREATED:20250423T065204Z
LAST-MODIFIED:20250423T070958Z
UID:1128-1747477800-1747485000@www.fjarasaik.se
SUMMARY:Norra Hallands ungdomsserie etapp 1
DESCRIPTION:Passa på att prova tävling mitt i Kungsbacka. Ungdomsserien är en serie roliga\, enklare tävlingar utan prestige som passar perfekt till nybörjare och ungdomar. Första etappen är i Kungsbacka med start vid ishallen.
URL:https://www.fjarasaik.se/event/norra-hallands-ungdomsserie-etapp-1/
END:VEVENT
BEGIN:VEVENT
DTSTART;TZID=Europe/Stockholm:20250513T180000
DTEND;TZID=Europe/Stockholm:20250513T200000
DTSTAMP:20260426T043734
CREATED:20250510T074542Z
LAST-MODIFIED:20250510T074542Z
UID:1150-1747159200-1747166400@www.fjarasaik.se
SUMMARY:Tisdagsträning 13/5
DESCRIPTION:Kommande träning i orientering blir tisdagen den 13/5 kl 18.00 strax väster om Ubbhult. Det är Rigor som håller i träningen denna gång\, kartan i Ubbhult är mycket bra. \nDu anmäler dig här: https://eventor.orientering.se/Activities/Show/23669 \n\nEller till Torbjörn på halvarsson.torbjorn@gmail.com eller 0725-725580 \nDu anmäler dig senast måndag kl 20.00 – ange önskad bana. \nSäg till i förväg om du som inte är medlem ännu kommer och vill pröva på. Säger du till innan har vi större möjligheter att välkomna dig och ge dig tid och visa hur det går till 🙂
URL:https://www.fjarasaik.se/event/tisdagstraning-13-5/
CATEGORIES:Träning
END:VEVENT
BEGIN:VEVENT
DTSTART;TZID=Europe/Stockholm:20250506T180000
DTEND;TZID=Europe/Stockholm:20250506T200000
DTSTAMP:20260426T043734
CREATED:20250502T053837Z
LAST-MODIFIED:20250502T053837Z
UID:1148-1746554400-1746561600@www.fjarasaik.se
SUMMARY:Tisdagsträning 6/5 kl. 18.00 i Frillesås
DESCRIPTION:Kommande träning i orientering blir tisdagen den 6/5 kl 18.00 strax öster om motorvägsavfarten i Frillesås. \nVägvisning från korsningen Frillesåsvägen/Almedalsvägen. Jag antar att man som vanligt parkerar vid bondgården söder om vägen. \nVägbeskrivning: \nhttps://maps.apple.com/place?map=explore&coordinate=57.326613%2C12.213974&name=Markerad%20plats \nDu anmäler dig här: https://eventor.orientering.se/Activities/Show/23620
URL:https://www.fjarasaik.se/event/tisdagstraning-6-5-kl-18-00-i-frillesas/
CATEGORIES:Träning
END:VEVENT
BEGIN:VEVENT
DTSTART;TZID=Europe/Stockholm:20250429T180000
DTEND;TZID=Europe/Stockholm:20250429T200000
DTSTAMP:20260426T043734
CREATED:20250423T181125Z
LAST-MODIFIED:20250423T181125Z
UID:1142-1745949600-1745956800@www.fjarasaik.se
SUMMARY:Tisdagsträning 29/4
DESCRIPTION:Kommande tisdagsträning går vid Fjärås Simhall: https://eventor.orientering.se/Activities/Show/23580\n\n\nAnmälan senast måndag kväll!
URL:https://www.fjarasaik.se/event/tisdagstraning-29-4/
CATEGORIES:Träning
END:VEVENT
BEGIN:VEVENT
DTSTART;TZID=Europe/Stockholm:20250427T100000
DTEND;TZID=Europe/Stockholm:20250427T120000
DTSTAMP:20260426T043734
CREATED:20250416T180502Z
LAST-MODIFIED:20250421T191452Z
UID:1119-1745748000-1745755200@www.fjarasaik.se
SUMMARY:Prova på Orientering i Fjärås!
DESCRIPTION:Fjärås AIK bjuder in till\nProvapå-tillfälle söndagen den 27:e april i Fjärås\nFör alla ungdomar från 8 år och vuxna \nEfter en snabb (frivillig) genomgång av grunderna går/joggar du själv en enkel eller lite svårare orienteringsbana. \nOrientering är en fantastisk idrott och gemenskap. Man kan börja i orientering från ca 8 år och det finns ingen övre gräns\, även som vuxen eller senior kan man börja utöva idrotten. Du behöver absolut inte vara vältränad – det finns banor som man kan gå runt. Allt du behöver är att ha huvudet på skaft och vilja spendera tid i Kungsbackas vackra natur. \nNär\nSöndagen den 27 april\, klockan 10.00 \nAnmälan (OBS det är viktigt att du anmäler dig!)\nSenast fredagen den 25 april till robert@fjarasaik.se \nPlats\nSmedingeskolan vid Fjärås Idrottscenter \nKostnad\nGratis \nFör dig som är klubbmedlem och vill passa på att köra ett extra träningspass så anmäler du dig här: https://eventor.orientering.se/Activities/Show/23574 \n 
URL:https://www.fjarasaik.se/event/prova-pa-orientering-i-fjaras/
CATEGORIES:Träning
END:VEVENT
BEGIN:VEVENT
DTSTART;TZID=Europe/Stockholm:20250427T100000
DTEND;TZID=Europe/Stockholm:20250427T120000
DTSTAMP:20260426T043734
CREATED:20250313T152813Z
LAST-MODIFIED:20250313T152813Z
UID:1092-1745748000-1745755200@www.fjarasaik.se
SUMMARY:Ullaredsdubbeln\, medel
DESCRIPTION:https://eventor.orientering.se/Events/Show/49322
URL:https://www.fjarasaik.se/event/ullaredsdubbeln-medel/
END:VEVENT
BEGIN:VEVENT
DTSTART;TZID=Europe/Stockholm:20250426T130000
DTEND;TZID=Europe/Stockholm:20250426T150000
DTSTAMP:20260426T043734
CREATED:20250313T152703Z
LAST-MODIFIED:20250313T152703Z
UID:1090-1745672400-1745679600@www.fjarasaik.se
SUMMARY:Ullaredsdubbeln\, lång
DESCRIPTION:https://eventor.orientering.se/Events/Show/49321
URL:https://www.fjarasaik.se/event/ullaredsdubbeln-lang/
END:VEVENT
BEGIN:VEVENT
DTSTART;TZID=Europe/Stockholm:20250426T103000
DTEND;TZID=Europe/Stockholm:20250426T120000
DTSTAMP:20260426T043734
CREATED:20250313T152534Z
LAST-MODIFIED:20250313T152534Z
UID:1088-1745663400-1745668800@www.fjarasaik.se
SUMMARY:Herkules skogsdåd
DESCRIPTION:https://eventor.orientering.se/Events/Show/48557
URL:https://www.fjarasaik.se/event/herkules-skogsdad-3/
END:VEVENT
END:VCALENDAR