BEGIN:VCALENDAR
VERSION:2.0
PRODID:-//Fjärås AIK - ECPv6.7.0//NONSGML v1.0//EN
CALSCALE:GREGORIAN
METHOD:PUBLISH
X-ORIGINAL-URL:https://www.fjarasaik.se
X-WR-CALDESC:Events for Fjärås AIK
REFRESH-INTERVAL;VALUE=DURATION:PT1H
X-Robots-Tag:noindex
X-PUBLISHED-TTL:PT1H
BEGIN:VTIMEZONE
TZID:Europe/Stockholm
BEGIN:DAYLIGHT
TZOFFSETFROM:+0100
TZOFFSETTO:+0200
TZNAME:CEST
DTSTART:20260329T010000
END:DAYLIGHT
BEGIN:STANDARD
TZOFFSETFROM:+0200
TZOFFSETTO:+0100
TZNAME:CET
DTSTART:20261025T010000
END:STANDARD
END:VTIMEZONE
BEGIN:VEVENT
DTSTART;VALUE=DATE:20260719
DTEND;VALUE=DATE:20260726
DTSTAMP:20260426T011920
CREATED:20260414T121337Z
LAST-MODIFIED:20260414T121337Z
UID:1395-1784419200-1785023999@www.fjarasaik.se
SUMMARY:O-Ringen Göteborg
DESCRIPTION:
URL:https://www.fjarasaik.se/event/o-ringen-goteborg/
END:VEVENT
END:VCALENDAR