BEGIN:VCALENDAR
VERSION:2.0
PRODID:-//Fjärås AIK - ECPv6.7.0//NONSGML v1.0//EN
CALSCALE:GREGORIAN
METHOD:PUBLISH
X-ORIGINAL-URL:https://www.fjarasaik.se
X-WR-CALDESC:Events for Fjärås AIK
REFRESH-INTERVAL;VALUE=DURATION:PT1H
X-Robots-Tag:noindex
X-PUBLISHED-TTL:PT1H
BEGIN:VTIMEZONE
TZID:Europe/Stockholm
BEGIN:DAYLIGHT
TZOFFSETFROM:+0100
TZOFFSETTO:+0200
TZNAME:CEST
DTSTART:20250330T010000
END:DAYLIGHT
BEGIN:STANDARD
TZOFFSETFROM:+0200
TZOFFSETTO:+0100
TZNAME:CET
DTSTART:20251026T010000
END:STANDARD
BEGIN:DAYLIGHT
TZOFFSETFROM:+0100
TZOFFSETTO:+0200
TZNAME:CEST
DTSTART:20260329T010000
END:DAYLIGHT
BEGIN:STANDARD
TZOFFSETFROM:+0200
TZOFFSETTO:+0100
TZNAME:CET
DTSTART:20261025T010000
END:STANDARD
END:VTIMEZONE
BEGIN:VEVENT
DTSTART;TZID=Europe/Stockholm:20260425T103000
DTEND;TZID=Europe/Stockholm:20260425T103000
DTSTAMP:20260425T181456
CREATED:20260414T114747Z
LAST-MODIFIED:20260414T114747Z
UID:1383-1777113000-1777113000@www.fjarasaik.se
SUMMARY:Norra Hallands U-serie etapp 1
DESCRIPTION:
URL:https://www.fjarasaik.se/event/norra-hallands-u-serie-etapp-1/
END:VEVENT
BEGIN:VEVENT
DTSTART;TZID=Europe/Stockholm:20260421T180000
DTEND;TZID=Europe/Stockholm:20260421T190000
DTSTAMP:20260425T181456
CREATED:20260416T184647Z
LAST-MODIFIED:20260416T184647Z
UID:1409-1776794400-1776798000@www.fjarasaik.se
SUMMARY:Tisdagsträning 21/4
DESCRIPTION:Rigor ordnar träningen nu på tisdag och den går i Palta i Vallda:\nhttps://eventor.orientering.se/Activities/Show/26157 \nI kväll tränar svart och orange nivå medeldistansteknik. Gul och vit nivå har vanliga banor. \nBanor: svart lång (4\,3 km)\, svart kort (2\,6 km)\, orange\, gul\, vit \nKartskala 1:7500 \nSamling: Vallda Sandö förskola\, vägvisning: https://www.google.com/maps/search/57.480198\,+11.962622?entry=tts&g_ep=EgoyMDI2MDQxMi4wIPu8ASoASAFQAw%3D%3D&skid=a7ae1a18-8561-4e48-83db-63048776ba4a \nAnmälan via Eventor eller till Robert robert@fjarasaik.se eller 0707-128162
URL:https://www.fjarasaik.se/event/tisdagstraning-21-4/
CATEGORIES:Träning
END:VEVENT
BEGIN:VEVENT
DTSTART;TZID=Europe/Stockholm:20260419T100000
DTEND;TZID=Europe/Stockholm:20260419T120000
DTSTAMP:20260425T181456
CREATED:20260414T114616Z
LAST-MODIFIED:20260414T114616Z
UID:1381-1776592800-1776600000@www.fjarasaik.se
SUMMARY:Göteborgsdubbeln\, medel
DESCRIPTION:
URL:https://www.fjarasaik.se/event/goteborgsdubbeln-medel-4/
END:VEVENT
BEGIN:VEVENT
DTSTART;TZID=Europe/Stockholm:20260418T100000
DTEND;TZID=Europe/Stockholm:20260418T120000
DTSTAMP:20260425T181456
CREATED:20260414T114514Z
LAST-MODIFIED:20260414T114514Z
UID:1379-1776506400-1776513600@www.fjarasaik.se
SUMMARY:Göteborgsdubbeln\, lång
DESCRIPTION:
URL:https://www.fjarasaik.se/event/goteborgsdubbeln-lang-4/
END:VEVENT
BEGIN:VEVENT
DTSTART;TZID=Europe/Stockholm:20260414T180000
DTEND;TZID=Europe/Stockholm:20260414T190000
DTSTAMP:20260425T181456
CREATED:20260412T173227Z
LAST-MODIFIED:20260412T173227Z
UID:1376-1776189600-1776193200@www.fjarasaik.se
SUMMARY:Tisdagsträning 14/4
DESCRIPTION:Tisdagsträning 14/4 \nLelle ordnar träningen nu på tisdag\, \nhttps://eventor.orientering.se/Activities/Show/26084 \nSamling: Klockan 18.00 efter grusvägen mellan motorvägsundergången vid södra änden av Ölmevallasjön och gården Aven (jag är där redan 17.30 om man vill komma iväg tidigare). Vi får nyttja en parkeringsplats som finns alldeles intill start och mål\, men den är ganska liten så samåk gärna (och parkera så nära varandra som det går). Om det blir fullt på parkeringsplatsen går det bra att parkera längs vägen på den sida som vetter mot skogen! \nBanor: \nVit – 2.6 km \nGul – 3.1 km \nOrange – 3.8 km \nSvart Kort – 3.3 km \nSvart Mellan – 4.7 km \nSvart Lång – 6.4 km \nKarta: Kartan stämmer hyggligt. En del stigar är dock otydliga i terrängen. Där tydlig ledstång saknas för de enklare banorna (vit och gul) har jag vitsnitslat en ledstång genom skogen. Den markeras som en violett streckad linje på kartan (tecknet för snitslad stig). OBS! Skala 1:7500 för samtliga banor. \nhttps://maps.app.goo.gl/YfKQoqabFYJJPzwe9 \nKontakt Lennart: nyberg.lennart@outlook.com 073-5190100
URL:https://www.fjarasaik.se/event/tisdagstraning-14-4/
CATEGORIES:Träning
END:VEVENT
BEGIN:VEVENT
DTSTART;TZID=Europe/Stockholm:20260411T103000
DTEND;TZID=Europe/Stockholm:20260411T140000
DTSTAMP:20260425T181456
CREATED:20260401T192954Z
LAST-MODIFIED:20260401T192954Z
UID:1372-1775903400-1775916000@www.fjarasaik.se
SUMMARY:Lördagsträning Fjärås Vårdmarknad
DESCRIPTION:Lördagsträning 11/4 \nFjärås AIK kommer ha monter på Fjärås Vårmarknad och du är välkommen att träna sprint! Det kommer att finnas 2 banor – en för de som provar på och en som alla kan springa. Det kommer också finnas en micro-OL bana för den som vill pröva det. Har du bekant som vill prova på är detta ett väldigt bra tillfälle. Om vi har tid och vädret är OK fixar vi SI-stämpling – så ta med din pinne för säkerhets skull (finns även att låna) 🙂 \nLänk: https://eventor.orientering.se/Activities/Show/26056 \nTid: Kl. ca 10.30 till 14.00 lördagen 11/4Plats: Fjärås Torg (runt Tempo)\nAnmälan: Via Eventor eller till robert@fjarasaik.se / 0707-128162
URL:https://www.fjarasaik.se/event/lordagstraning-fjaras-vardmarknad/
CATEGORIES:Träning
END:VEVENT
BEGIN:VEVENT
DTSTART;TZID=Europe/Stockholm:20260411T100000
DTEND;TZID=Europe/Stockholm:20260411T150000
DTSTAMP:20260425T181456
CREATED:20260313T074306Z
LAST-MODIFIED:20260313T074306Z
UID:1363-1775901600-1775919600@www.fjarasaik.se
SUMMARY:Träffa oss på Fjärås Vårmarknad
DESCRIPTION:Den 11/4 kan du träffa oss på Fjärås AIK på Fjärås Vårmarknad. Hoppas att du tar en sväng förbi och säger hej 🙂 \nhttps://www.facebook.com/events/1589862452339078
URL:https://www.fjarasaik.se/event/traffa-oss-pa-fjaras-varmarknad/
CATEGORIES:Socialt
END:VEVENT
BEGIN:VEVENT
DTSTART;TZID=Europe/Stockholm:20260407T180000
DTEND;TZID=Europe/Stockholm:20260407T190000
DTSTAMP:20260425T181456
CREATED:20260401T193031Z
LAST-MODIFIED:20260401T193031Z
UID:1374-1775584800-1775588400@www.fjarasaik.se
SUMMARY:Tisdagsträning
DESCRIPTION:Tisdagsträning 7/4 \nTräning på kartor från Snötrampen. Det kommer finnas medeldistansbanor\, allt från Inskolning till D/H21. Det kommer sitta 90 kontroller ute (Gula pinnar). Vill man komponera sin egna bana så kommer det finnas mallkartor att göra det (ta med egen penna). Vi möts på startgärdet. Obs respektera de förbjudna området precis i starten\, nyplanterade små granar. \nLänk: https://eventor.orientering.se/Activities/Show/25925 \nTid: Kl 18.00 tisdagen den 7/4 \nPlats: Idala\, https://maps.app.goo.gl/R34ohSMJRXkh7xTo7 \nAnmälan: Via Eventor eller till robert@fjarasaik.se / 0707-128162
URL:https://www.fjarasaik.se/event/tisdagstraning-11/
CATEGORIES:Träning
END:VEVENT
BEGIN:VEVENT
DTSTART;TZID=Europe/Stockholm:20260406T100000
DTEND;TZID=Europe/Stockholm:20260406T120000
DTSTAMP:20260425T181456
CREATED:20260302T182544Z
LAST-MODIFIED:20260302T182544Z
UID:1356-1775469600-1775476800@www.fjarasaik.se
SUMMARY:Snötrampen
DESCRIPTION:
URL:https://www.fjarasaik.se/event/snotrampen-3/
END:VEVENT
BEGIN:VEVENT
DTSTART;TZID=Europe/Stockholm:20260404T100000
DTEND;TZID=Europe/Stockholm:20260404T120000
DTSTAMP:20260425T181456
CREATED:20260302T182438Z
LAST-MODIFIED:20260302T182438Z
UID:1354-1775296800-1775304000@www.fjarasaik.se
SUMMARY:Friskusträffen
DESCRIPTION:
URL:https://www.fjarasaik.se/event/friskustraffen-5/
END:VEVENT
BEGIN:VEVENT
DTSTART;TZID=Europe/Stockholm:20260403T110000
DTEND;TZID=Europe/Stockholm:20260403T130000
DTSTAMP:20260425T181456
CREATED:20260302T182322Z
LAST-MODIFIED:20260302T182322Z
UID:1352-1775214000-1775221200@www.fjarasaik.se
SUMMARY:Nackheträffen
DESCRIPTION:
URL:https://www.fjarasaik.se/event/nackhetraffen-5/
END:VEVENT
BEGIN:VEVENT
DTSTART;TZID=Europe/Stockholm:20260402T203000
DTEND;TZID=Europe/Stockholm:20260402T220000
DTSTAMP:20260425T181456
CREATED:20260302T182201Z
LAST-MODIFIED:20260302T182201Z
UID:1350-1775161800-1775167200@www.fjarasaik.se
SUMMARY:DM\, natt\, Halland
DESCRIPTION:
URL:https://www.fjarasaik.se/event/dm-natt-halland-2/
END:VEVENT
BEGIN:VEVENT
DTSTART;TZID=Europe/Stockholm:20260331T180000
DTEND;TZID=Europe/Stockholm:20260331T190000
DTSTAMP:20260425T181456
CREATED:20260327T165457Z
LAST-MODIFIED:20260327T165457Z
UID:1370-1774980000-1774983600@www.fjarasaik.se
SUMMARY:Årets första tisdagsträning!
DESCRIPTION:Nu kör vi äntligen igång! \nhttps://eventor.orientering.se/Activities/Show/25941 \nTid: Kl 18.00 tisdagen den 31/3 \nPlats: Rigortorpet \nInfo: Teknikträning. Glöm inte att läsa PM i Eventor\, den innehåller mycket bra info kring strategier för alla nivåer. \nAnmälan via Eventor eller till robert@fjarasaik.se eller 0707-128162. \nSe till att du är med nu\, det är härligt att komma ut i skogen och jogga även om det fortfarande kan vara lite kyligt blir man ju snabbt varm 🙂
URL:https://www.fjarasaik.se/event/arets-forsta-tisdagstraning/
CATEGORIES:Träning
END:VEVENT
BEGIN:VEVENT
DTSTART;TZID=Europe/Stockholm:20260315T100000
DTEND;TZID=Europe/Stockholm:20260315T120000
DTSTAMP:20260425T181456
CREATED:20260302T181810Z
LAST-MODIFIED:20260302T181815Z
UID:1348-1773568800-1773576000@www.fjarasaik.se
SUMMARY:Göteborgspremiären\, lång
DESCRIPTION:
URL:https://www.fjarasaik.se/event/goteborgspremiaren-lang-2/
END:VEVENT
BEGIN:VEVENT
DTSTART;TZID=Europe/Stockholm:20260314T110000
DTEND;TZID=Europe/Stockholm:20260314T130000
DTSTAMP:20260425T181456
CREATED:20260302T181707Z
LAST-MODIFIED:20260302T181707Z
UID:1346-1773486000-1773493200@www.fjarasaik.se
SUMMARY:Göteborgspremiären\, medel
DESCRIPTION:
URL:https://www.fjarasaik.se/event/goteborgspremiaren-medel-2/
END:VEVENT
BEGIN:VEVENT
DTSTART;TZID=Europe/Stockholm:20260313T190000
DTEND;TZID=Europe/Stockholm:20260313T210000
DTSTAMP:20260425T181456
CREATED:20260302T181559Z
LAST-MODIFIED:20260302T181559Z
UID:1344-1773428400-1773435600@www.fjarasaik.se
SUMMARY:Göteborgspremiären\, natt\, förlängd sprint
DESCRIPTION:
URL:https://www.fjarasaik.se/event/goteborgspremiaren-natt-forlangd-sprint/
END:VEVENT
BEGIN:VEVENT
DTSTART;TZID=Europe/Stockholm:20260308T100000
DTEND;TZID=Europe/Stockholm:20260308T120000
DTSTAMP:20260425T181456
CREATED:20260302T181137Z
LAST-MODIFIED:20260302T181137Z
UID:1342-1772964000-1772971200@www.fjarasaik.se
SUMMARY:Hallandspremiär lång
DESCRIPTION:
URL:https://www.fjarasaik.se/event/hallandspremiar-lang-3/
LOCATION:Vilshärad
END:VEVENT
BEGIN:VEVENT
DTSTART;TZID=Europe/Stockholm:20260307T110000
DTEND;TZID=Europe/Stockholm:20260307T130000
DTSTAMP:20260425T181456
CREATED:20260302T181032Z
LAST-MODIFIED:20260302T181032Z
UID:1340-1772881200-1772888400@www.fjarasaik.se
SUMMARY:Hallandspremiär Medel
DESCRIPTION:
URL:https://www.fjarasaik.se/event/hallandspremiar-medel/
LOCATION:Vilshärad
END:VEVENT
BEGIN:VEVENT
DTSTART;TZID=Europe/Stockholm:20260306T180000
DTEND;TZID=Europe/Stockholm:20260306T190000
DTSTAMP:20260425T181456
CREATED:20260302T180913Z
LAST-MODIFIED:20260302T180913Z
UID:1337-1772820000-1772823600@www.fjarasaik.se
SUMMARY:Kattegattnatt
DESCRIPTION:
URL:https://www.fjarasaik.se/event/kattegattnatt-2/
LOCATION:Vilshärad
END:VEVENT
BEGIN:VEVENT
DTSTART;TZID=Europe/Stockholm:20260301T100000
DTEND;TZID=Europe/Stockholm:20260301T110000
DTSTAMP:20260425T181456
CREATED:20260131T100919Z
LAST-MODIFIED:20260131T100919Z
UID:1325-1772359200-1772362800@www.fjarasaik.se
SUMMARY:Vintercupen etapp 9
DESCRIPTION:Tillfälle #9 1/3 – https://eventor.orientering.se/Events/Show/57216
URL:https://www.fjarasaik.se/event/vintercupen-etapp-9/
CATEGORIES:Tävling,Träning
END:VEVENT
BEGIN:VEVENT
DTSTART;TZID=Europe/Stockholm:20260222T100000
DTEND;TZID=Europe/Stockholm:20260222T110000
DTSTAMP:20260425T181456
CREATED:20260131T100846Z
LAST-MODIFIED:20260131T100846Z
UID:1323-1771754400-1771758000@www.fjarasaik.se
SUMMARY:Vintercupen etapp 8
DESCRIPTION:Tillfälle #8 22/2 – https://eventor.orientering.se/Events/Show/56776
URL:https://www.fjarasaik.se/event/vintercupen-etapp-8/
CATEGORIES:Tävling,Träning
END:VEVENT
BEGIN:VEVENT
DTSTART;TZID=Europe/Stockholm:20260215T100000
DTEND;TZID=Europe/Stockholm:20260215T110000
DTSTAMP:20260425T181456
CREATED:20260131T100758Z
LAST-MODIFIED:20260131T100758Z
UID:1321-1771149600-1771153200@www.fjarasaik.se
SUMMARY:Vintercupen etapp 7
DESCRIPTION:Tillfälle #7 15/2 – https://eventor.orientering.se/Events/Show/57030
URL:https://www.fjarasaik.se/event/vintercupen-etapp-7/
CATEGORIES:Tävling,Träning
END:VEVENT
BEGIN:VEVENT
DTSTART;TZID=Europe/Stockholm:20260208T100000
DTEND;TZID=Europe/Stockholm:20260208T110000
DTSTAMP:20260425T181456
CREATED:20260131T100711Z
LAST-MODIFIED:20260131T100720Z
UID:1318-1770544800-1770548400@www.fjarasaik.se
SUMMARY:Vintercupen etapp 6
DESCRIPTION:https://eventor.orientering.se/Events/Show/57405 \n 
URL:https://www.fjarasaik.se/event/vintercupen-etapp-6/
CATEGORIES:Tävling,Träning
END:VEVENT
BEGIN:VEVENT
DTSTART;TZID=Europe/Stockholm:20260204T190000
DTEND;TZID=Europe/Stockholm:20260204T210000
DTSTAMP:20260425T181456
CREATED:20251219T183749Z
LAST-MODIFIED:20260131T094815Z
UID:1285-1770231600-1770238800@www.fjarasaik.se
SUMMARY:Årsmöte 2026
DESCRIPTION:Alla medlemmar i idrottsföreningen Fjärås AIK kallas härmed till årsmöte den 4:e februari kl. 19.00. Motionsstopp för årsmötet är den 1:e januari. Årsmötets handlingar publiceras vid förfrågan minst en vecka innan årsmötet via mejl.Årsmötet har flera funktioner\, t.ex.:\n– Styr och fattar viktiga beslut om verksamheten\n– Väljer de styrelseposter som är uppe för omval\n– Fastställer budget och verksamhetsplan för kommande året \nPå årsmötet kan man som medlem uttrycka sina åsikter och påverka hur föreningen ska utvecklas framåt. För att en förening skall fungera är det viktigt att medlemmar kommer på årsmötet. Alla medlemmar är hjärtligt välkomna och har rösträtt på årsmötet samt har rätt att lämna motioner. Det brukar dessutom bli en trevlig tillställning\, där vi får en chans att träffas off-season. \nEftersom adventsfikat blev inställt kommer vi också att bemärka årets KM-vinnare och våra duktiga ungdomar som tävlade på KM. \nHoppas att vi ses på årsmötet 🙂
URL:https://www.fjarasaik.se/event/arsmote-2026/
LOCATION:FAIK-Stugan\, Stamvägen 1\, Kungsbacka\, Sverige
CATEGORIES:Möten
END:VEVENT
BEGIN:VEVENT
DTSTART;TZID=Europe/Stockholm:20260201T100000
DTEND;TZID=Europe/Stockholm:20260201T110000
DTSTAMP:20260425T181456
CREATED:20260104T191237Z
LAST-MODIFIED:20260104T191244Z
UID:1304-1769940000-1769943600@www.fjarasaik.se
SUMMARY:Vintercupen etapp 5
DESCRIPTION:https://eventor.orientering.se/Events/Show/57175
URL:https://www.fjarasaik.se/event/vintercupen-etapp-5/
CATEGORIES:Tävling,Träning
END:VEVENT
BEGIN:VEVENT
DTSTART;TZID=Europe/Stockholm:20260125T100000
DTEND;TZID=Europe/Stockholm:20260125T110000
DTSTAMP:20260425T181456
CREATED:20260104T191129Z
LAST-MODIFIED:20260104T191129Z
UID:1301-1769335200-1769338800@www.fjarasaik.se
SUMMARY:Vintercupen etapp 4
DESCRIPTION:https://eventor.orientering.se/Events/Show/56775
URL:https://www.fjarasaik.se/event/vintercupen-etapp-4/
CATEGORIES:Tävling,Träning
END:VEVENT
BEGIN:VEVENT
DTSTART;TZID=Europe/Stockholm:20260118T100000
DTEND;TZID=Europe/Stockholm:20260118T110000
DTSTAMP:20260425T181456
CREATED:20260104T191058Z
LAST-MODIFIED:20260104T191145Z
UID:1299-1768730400-1768734000@www.fjarasaik.se
SUMMARY:Vintercupen etapp 3
DESCRIPTION:https://eventor.orientering.se/Events/Show/57029
URL:https://www.fjarasaik.se/event/vintercupen-etapp-3/
CATEGORIES:Tävling,Träning
END:VEVENT
BEGIN:VEVENT
DTSTART;TZID=Europe/Stockholm:20260111T100000
DTEND;TZID=Europe/Stockholm:20260111T110000
DTSTAMP:20260425T181456
CREATED:20260104T191022Z
LAST-MODIFIED:20260104T191022Z
UID:1297-1768125600-1768129200@www.fjarasaik.se
SUMMARY:Vintercupen etapp 2
DESCRIPTION:https://eventor.orientering.se/Events/Show/57158 \n 
URL:https://www.fjarasaik.se/event/vintercupen-etapp-2/
CATEGORIES:Tävling,Träning
END:VEVENT
BEGIN:VEVENT
DTSTART;TZID=Europe/Stockholm:20260104T100000
DTEND;TZID=Europe/Stockholm:20260104T110000
DTSTAMP:20260425T181456
CREATED:20251219T184257Z
LAST-MODIFIED:20251219T184257Z
UID:1293-1767520800-1767524400@www.fjarasaik.se
SUMMARY:Vintercupen etapp 1
DESCRIPTION:Vintercupen är en serie enklare tävlingar som går i Göteborg under januari och februari. Alla kan vara med och springa\, oavsett nivå och man betalar 60 kr för vuxna och 30 kr för barn\, faktureras klubbarna i efterhand. \nStart kl.10:00-11:00\nParkering och samling vid Bunketorp. \nSkala 1:7500 för alla klasser som standard.\nFör 5 och 7 km svart kan karta fås i skala 1:10 000\, om detta önskas så MÅSTE detta anges vid anmälan (lägg till tjänst). \nDet finns möjlighet att delta utan tidtagning och få resultatet ”Fullföljt” i resultatlistan. Säg till vid avprickning\, eller vid målgång. \nPM:\nAvprickning och karta i klubbstugan. \nca 1 km till start. Samma start för samtliga banor. \nDet finns enklare fika till försäljning. Smörgåsar (även glutenfri)\, kaffe\, saft\, te\, eventuellt bullar. Självservering. \n  \nhttps://eventor.orientering.se/Events/Show/57174
URL:https://www.fjarasaik.se/event/vintercupen-etapp-1/
CATEGORIES:Tävling
END:VEVENT
BEGIN:VEVENT
DTSTART;TZID=Europe/Stockholm:20251225T100000
DTEND;TZID=Europe/Stockholm:20251225T110000
DTSTAMP:20260425T181456
CREATED:20251219T183905Z
LAST-MODIFIED:20251219T183905Z
UID:1289-1766656800-1766660400@www.fjarasaik.se
SUMMARY:Juldagsjogg
DESCRIPTION:Den blivande traditionsenliga juldagsjoggen startar vid FAIK-stugan klockan 10.00. Du är hjärtligt välkommen att vara med. Vi anpassar tempo och längd så att alla kan vara med. Har du frågor hör du av dig till Erik på 0760-428850
URL:https://www.fjarasaik.se/event/juldagsjogg/
LOCATION:FAIK-Stugan\, Stamvägen 1\, Kungsbacka\, Sverige
CATEGORIES:Socialt
END:VEVENT
END:VCALENDAR