BEGIN:VCALENDAR
VERSION:2.0
PRODID:-//Fjärås AIK - ECPv6.7.0//NONSGML v1.0//EN
CALSCALE:GREGORIAN
METHOD:PUBLISH
X-WR-CALNAME:Fjärås AIK
X-ORIGINAL-URL:https://www.fjarasaik.se
X-WR-CALDESC:Events for Fjärås AIK
REFRESH-INTERVAL;VALUE=DURATION:PT1H
X-Robots-Tag:noindex
X-PUBLISHED-TTL:PT1H
BEGIN:VTIMEZONE
TZID:Europe/Stockholm
BEGIN:DAYLIGHT
TZOFFSETFROM:+0100
TZOFFSETTO:+0200
TZNAME:CEST
DTSTART:20260329T010000
END:DAYLIGHT
BEGIN:STANDARD
TZOFFSETFROM:+0200
TZOFFSETTO:+0100
TZNAME:CET
DTSTART:20261025T010000
END:STANDARD
END:VTIMEZONE
BEGIN:VEVENT
DTSTART;TZID=Europe/Stockholm:20260208T100000
DTEND;TZID=Europe/Stockholm:20260208T110000
DTSTAMP:20260426T043238
CREATED:20260131T100711Z
LAST-MODIFIED:20260131T100720Z
UID:1318-1770544800-1770548400@www.fjarasaik.se
SUMMARY:Vintercupen etapp 6
DESCRIPTION:https://eventor.orientering.se/Events/Show/57405 \n 
URL:https://www.fjarasaik.se/event/vintercupen-etapp-6/
CATEGORIES:Tävling,Träning
END:VEVENT
END:VCALENDAR