BEGIN:VCALENDAR
VERSION:2.0
PRODID:-//Fjärås AIK - ECPv6.7.0//NONSGML v1.0//EN
CALSCALE:GREGORIAN
METHOD:PUBLISH
X-WR-CALNAME:Fjärås AIK
X-ORIGINAL-URL:https://www.fjarasaik.se
X-WR-CALDESC:Events for Fjärås AIK
REFRESH-INTERVAL;VALUE=DURATION:PT1H
X-Robots-Tag:noindex
X-PUBLISHED-TTL:PT1H
BEGIN:VTIMEZONE
TZID:Europe/Stockholm
BEGIN:DAYLIGHT
TZOFFSETFROM:+0100
TZOFFSETTO:+0200
TZNAME:CEST
DTSTART:20260329T010000
END:DAYLIGHT
BEGIN:STANDARD
TZOFFSETFROM:+0200
TZOFFSETTO:+0100
TZNAME:CET
DTSTART:20261025T010000
END:STANDARD
END:VTIMEZONE
BEGIN:VEVENT
DTSTART;TZID=Europe/Stockholm:20260104T100000
DTEND;TZID=Europe/Stockholm:20260104T110000
DTSTAMP:20260426T043113
CREATED:20251219T184257Z
LAST-MODIFIED:20251219T184257Z
UID:1293-1767520800-1767524400@www.fjarasaik.se
SUMMARY:Vintercupen etapp 1
DESCRIPTION:Vintercupen är en serie enklare tävlingar som går i Göteborg under januari och februari. Alla kan vara med och springa\, oavsett nivå och man betalar 60 kr för vuxna och 30 kr för barn\, faktureras klubbarna i efterhand. \nStart kl.10:00-11:00\nParkering och samling vid Bunketorp. \nSkala 1:7500 för alla klasser som standard.\nFör 5 och 7 km svart kan karta fås i skala 1:10 000\, om detta önskas så MÅSTE detta anges vid anmälan (lägg till tjänst). \nDet finns möjlighet att delta utan tidtagning och få resultatet ”Fullföljt” i resultatlistan. Säg till vid avprickning\, eller vid målgång. \nPM:\nAvprickning och karta i klubbstugan. \nca 1 km till start. Samma start för samtliga banor. \nDet finns enklare fika till försäljning. Smörgåsar (även glutenfri)\, kaffe\, saft\, te\, eventuellt bullar. Självservering. \n  \nhttps://eventor.orientering.se/Events/Show/57174
URL:https://www.fjarasaik.se/event/vintercupen-etapp-1/
CATEGORIES:Tävling
END:VEVENT
BEGIN:VEVENT
DTSTART;TZID=Europe/Stockholm:20260111T100000
DTEND;TZID=Europe/Stockholm:20260111T110000
DTSTAMP:20260426T043113
CREATED:20260104T191022Z
LAST-MODIFIED:20260104T191022Z
UID:1297-1768125600-1768129200@www.fjarasaik.se
SUMMARY:Vintercupen etapp 2
DESCRIPTION:https://eventor.orientering.se/Events/Show/57158 \n 
URL:https://www.fjarasaik.se/event/vintercupen-etapp-2/
CATEGORIES:Tävling,Träning
END:VEVENT
BEGIN:VEVENT
DTSTART;TZID=Europe/Stockholm:20260118T100000
DTEND;TZID=Europe/Stockholm:20260118T110000
DTSTAMP:20260426T043113
CREATED:20260104T191058Z
LAST-MODIFIED:20260104T191145Z
UID:1299-1768730400-1768734000@www.fjarasaik.se
SUMMARY:Vintercupen etapp 3
DESCRIPTION:https://eventor.orientering.se/Events/Show/57029
URL:https://www.fjarasaik.se/event/vintercupen-etapp-3/
CATEGORIES:Tävling,Träning
END:VEVENT
BEGIN:VEVENT
DTSTART;TZID=Europe/Stockholm:20260125T100000
DTEND;TZID=Europe/Stockholm:20260125T110000
DTSTAMP:20260426T043113
CREATED:20260104T191129Z
LAST-MODIFIED:20260104T191129Z
UID:1301-1769335200-1769338800@www.fjarasaik.se
SUMMARY:Vintercupen etapp 4
DESCRIPTION:https://eventor.orientering.se/Events/Show/56775
URL:https://www.fjarasaik.se/event/vintercupen-etapp-4/
CATEGORIES:Tävling,Träning
END:VEVENT
END:VCALENDAR