BEGIN:VCALENDAR
VERSION:2.0
PRODID:-//Fjärås AIK - ECPv6.7.0//NONSGML v1.0//EN
CALSCALE:GREGORIAN
METHOD:PUBLISH
X-WR-CALNAME:Fjärås AIK
X-ORIGINAL-URL:https://www.fjarasaik.se
X-WR-CALDESC:Events for Fjärås AIK
REFRESH-INTERVAL;VALUE=DURATION:PT1H
X-Robots-Tag:noindex
X-PUBLISHED-TTL:PT1H
BEGIN:VTIMEZONE
TZID:Europe/Stockholm
BEGIN:DAYLIGHT
TZOFFSETFROM:+0100
TZOFFSETTO:+0200
TZNAME:CEST
DTSTART:20260329T010000
END:DAYLIGHT
BEGIN:STANDARD
TZOFFSETFROM:+0200
TZOFFSETTO:+0100
TZNAME:CET
DTSTART:20261025T010000
END:STANDARD
END:VTIMEZONE
BEGIN:VEVENT
DTSTART;TZID=Europe/Stockholm:20260425T100000
DTEND;TZID=Europe/Stockholm:20260426T150000
DTSTAMP:20260425T144658
CREATED:20260312T193550Z
LAST-MODIFIED:20260326T090947Z
UID:1361-1777111200-1777215600@www.fjarasaik.se
SUMMARY:Nybörjarkurs för vuxna och ungdomar
DESCRIPTION:Den 26-26 april har vi nybörjarkurs för vuxna och ungdomar. Mer information finns här
URL:https://www.fjarasaik.se/event/nuborjarkurs-for-vuxna-och-ungdomar/
LOCATION:FAIK-Stugan\, Stamvägen 1\, Kungsbacka\, Sverige
CATEGORIES:Träning
END:VEVENT
BEGIN:VEVENT
DTSTART;TZID=Europe/Stockholm:20260426T100000
DTEND;TZID=Europe/Stockholm:20260426T120000
DTSTAMP:20260425T144658
CREATED:20260414T115046Z
LAST-MODIFIED:20260414T115046Z
UID:1385-1777197600-1777204800@www.fjarasaik.se
SUMMARY:Herkules skogsdåd
DESCRIPTION:
URL:https://www.fjarasaik.se/event/herkules-skogsdad-4/
END:VEVENT
BEGIN:VEVENT
DTSTART;TZID=Europe/Stockholm:20260428T180000
DTEND;TZID=Europe/Stockholm:20260428T200000
DTSTAMP:20260425T144658
CREATED:20260422T191719Z
LAST-MODIFIED:20260422T191719Z
UID:1411-1777399200-1777406400@www.fjarasaik.se
SUMMARY:Tisdagsträning 28/4
DESCRIPTION:Tisdag 28/4 bjuder vi in er till Stafettträning. För att få ännu fler deltagare har vi även till denna träning bjudit in Friskus Varberg och Nackhe.\nDet är gemensam start och olika banor finnas att välja på som vanligt.\nI länken till anmälan finns bifogat PM med all information.\n\nhttps://eventor.orientering.se/Activities/Show/25926\n\nAnmälan via Eventor eller till Robert robert@fjarasaik.se eller 0707-128162
URL:https://www.fjarasaik.se/event/tisdagstraning-28-4/
CATEGORIES:Träning
END:VEVENT
BEGIN:VEVENT
DTSTART;TZID=Europe/Stockholm:20260509T100000
DTEND;TZID=Europe/Stockholm:20260509T120000
DTSTAMP:20260425T144658
CREATED:20260414T115256Z
LAST-MODIFIED:20260414T115256Z
UID:1387-1778320800-1778328000@www.fjarasaik.se
SUMMARY:DM\, sprint\, Halland + Göteborg
DESCRIPTION:
URL:https://www.fjarasaik.se/event/dm-sprint-halland-goteborg/
END:VEVENT
BEGIN:VEVENT
DTSTART;TZID=Europe/Stockholm:20260512T180000
DTEND;TZID=Europe/Stockholm:20260512T193000
DTSTAMP:20260425T144658
CREATED:20260414T121509Z
LAST-MODIFIED:20260414T122432Z
UID:1397-1778608800-1778614200@www.fjarasaik.se
SUMMARY:O-65+
DESCRIPTION:Prova-på 65+ (men yngre är självklart också välkomna) – tisdagen den 12:e\, 19:e samt 26:e maj.Vi samlas vid Fjärås Fritidscenter parkering kl 18.00Kom vid ett av tillfällena eller flera för att utvecklas.Det finns möjlighet för både nybörjare och fd orienterare som vill komma tillbaka och som vill prova på världens bästa idrott. \nKostnad: GratisAnmälan: Frivilligt\, men uppskattasKontakt: karin@fjarasaik.se
URL:https://www.fjarasaik.se/event/o-65/
END:VEVENT
BEGIN:VEVENT
DTSTART;TZID=Europe/Stockholm:20260514T103000
DTEND;TZID=Europe/Stockholm:20260514T123000
DTSTAMP:20260425T144658
CREATED:20260414T115637Z
LAST-MODIFIED:20260414T115637Z
UID:1389-1778754600-1778761800@www.fjarasaik.se
SUMMARY:Norra Hallands U-serie etapp 2
DESCRIPTION:
URL:https://www.fjarasaik.se/event/norra-hallands-u-serie-etapp-2/
END:VEVENT
BEGIN:VEVENT
DTSTART;TZID=Europe/Stockholm:20260519T180000
DTEND;TZID=Europe/Stockholm:20260519T193000
DTSTAMP:20260425T144658
CREATED:20260414T121542Z
LAST-MODIFIED:20260414T122505Z
UID:1399-1779213600-1779219000@www.fjarasaik.se
SUMMARY:O-65+
DESCRIPTION:Prova-på 65+ (men yngre är självklart också välkomna) – tisdagen den 12:e\, 19:e samt 26:e maj.Vi samlas vid Fjärås Fritidscenter parkering kl 18.00Kom vid ett av tillfällena eller flera för att utvecklas.Det finns möjlighet för både nybörjare och fd orienterare som vill komma tillbaka och som vill prova på världens bästa idrott. \nKostnad: GratisAnmälan: Frivilligt\, men uppskattasKontakt: karin@fjarasaik.se
URL:https://www.fjarasaik.se/event/o-65-2/
END:VEVENT
BEGIN:VEVENT
DTSTART;TZID=Europe/Stockholm:20260526T180000
DTEND;TZID=Europe/Stockholm:20260526T193000
DTSTAMP:20260425T144658
CREATED:20260414T121612Z
LAST-MODIFIED:20260414T122535Z
UID:1401-1779818400-1779823800@www.fjarasaik.se
SUMMARY:O-65+
DESCRIPTION:Prova-på 65+ (men yngre är självklart också välkomna) – tisdagen den 12:e\, 19:e samt 26:e maj.Vi samlas vid Fjärås Fritidscenter parkering kl 18.00Kom vid ett av tillfällena eller flera för att utvecklas.Det finns möjlighet för både nybörjare och fd orienterare som vill komma tillbaka och som vill prova på världens bästa idrott. \nKostnad: GratisAnmälan: Frivilligt\, men uppskattasKontakt: karin@fjarasaik.se
URL:https://www.fjarasaik.se/event/o-65-3/
END:VEVENT
BEGIN:VEVENT
DTSTART;TZID=Europe/Stockholm:20260530T090000
DTEND;TZID=Europe/Stockholm:20260530T110000
DTSTAMP:20260425T144658
CREATED:20260414T122123Z
LAST-MODIFIED:20260414T122123Z
UID:1404-1780131600-1780138800@www.fjarasaik.se
SUMMARY:World Cup Spectator Race #2 - Sommarlandssprinten
DESCRIPTION:
URL:https://www.fjarasaik.se/event/world-cup-spectator-race-2-sommarlandssprinten/
END:VEVENT
BEGIN:VEVENT
DTSTART;TZID=Europe/Stockholm:20260616T183000
DTEND;TZID=Europe/Stockholm:20260616T203000
DTSTAMP:20260425T144658
CREATED:20260414T120141Z
LAST-MODIFIED:20260414T120141Z
UID:1391-1781634600-1781641800@www.fjarasaik.se
SUMMARY:Minitjoget i Sätila
DESCRIPTION:
URL:https://www.fjarasaik.se/event/minitjoget-i-satila-4/
END:VEVENT
BEGIN:VEVENT
DTSTART;TZID=Europe/Stockholm:20260710T100000
DTEND;TZID=Europe/Stockholm:20260712T150000
DTSTAMP:20260425T144658
CREATED:20260414T120542Z
LAST-MODIFIED:20260414T120542Z
UID:1393-1783677600-1783868400@www.fjarasaik.se
SUMMARY:Hallands 3-dagars
DESCRIPTION:
URL:https://www.fjarasaik.se/event/hallands-3-dagars/
END:VEVENT
BEGIN:VEVENT
DTSTART;VALUE=DATE:20260719
DTEND;VALUE=DATE:20260726
DTSTAMP:20260425T144658
CREATED:20260414T121337Z
LAST-MODIFIED:20260414T121337Z
UID:1395-1784419200-1785023999@www.fjarasaik.se
SUMMARY:O-Ringen Göteborg
DESCRIPTION:
URL:https://www.fjarasaik.se/event/o-ringen-goteborg/
END:VEVENT
END:VCALENDAR