BEGIN:VCALENDAR
VERSION:2.0
PRODID:-//Fjärås AIK - ECPv6.7.0//NONSGML v1.0//EN
CALSCALE:GREGORIAN
METHOD:PUBLISH
X-WR-CALNAME:Fjärås AIK
X-ORIGINAL-URL:https://www.fjarasaik.se
X-WR-CALDESC:Events for Fjärås AIK
REFRESH-INTERVAL;VALUE=DURATION:PT1H
X-Robots-Tag:noindex
X-PUBLISHED-TTL:PT1H
BEGIN:VTIMEZONE
TZID:Europe/Stockholm
BEGIN:DAYLIGHT
TZOFFSETFROM:+0100
TZOFFSETTO:+0200
TZNAME:CEST
DTSTART:20260329T010000
END:DAYLIGHT
BEGIN:STANDARD
TZOFFSETFROM:+0200
TZOFFSETTO:+0100
TZNAME:CET
DTSTART:20261025T010000
END:STANDARD
END:VTIMEZONE
BEGIN:VEVENT
DTSTART;TZID=Europe/Stockholm:20260414T180000
DTEND;TZID=Europe/Stockholm:20260414T190000
DTSTAMP:20260425T193217
CREATED:20260412T173227Z
LAST-MODIFIED:20260412T173227Z
UID:1376-1776189600-1776193200@www.fjarasaik.se
SUMMARY:Tisdagsträning 14/4
DESCRIPTION:Tisdagsträning 14/4 \nLelle ordnar träningen nu på tisdag\, \nhttps://eventor.orientering.se/Activities/Show/26084 \nSamling: Klockan 18.00 efter grusvägen mellan motorvägsundergången vid södra änden av Ölmevallasjön och gården Aven (jag är där redan 17.30 om man vill komma iväg tidigare). Vi får nyttja en parkeringsplats som finns alldeles intill start och mål\, men den är ganska liten så samåk gärna (och parkera så nära varandra som det går). Om det blir fullt på parkeringsplatsen går det bra att parkera längs vägen på den sida som vetter mot skogen! \nBanor: \nVit – 2.6 km \nGul – 3.1 km \nOrange – 3.8 km \nSvart Kort – 3.3 km \nSvart Mellan – 4.7 km \nSvart Lång – 6.4 km \nKarta: Kartan stämmer hyggligt. En del stigar är dock otydliga i terrängen. Där tydlig ledstång saknas för de enklare banorna (vit och gul) har jag vitsnitslat en ledstång genom skogen. Den markeras som en violett streckad linje på kartan (tecknet för snitslad stig). OBS! Skala 1:7500 för samtliga banor. \nhttps://maps.app.goo.gl/YfKQoqabFYJJPzwe9 \nKontakt Lennart: nyberg.lennart@outlook.com 073-5190100
URL:https://www.fjarasaik.se/event/tisdagstraning-14-4/
CATEGORIES:Träning
END:VEVENT
END:VCALENDAR