BEGIN:VCALENDAR
VERSION:2.0
PRODID:-//Fjärås AIK - ECPv6.7.0//NONSGML v1.0//EN
CALSCALE:GREGORIAN
METHOD:PUBLISH
X-ORIGINAL-URL:https://www.fjarasaik.se
X-WR-CALDESC:Events for Fjärås AIK
REFRESH-INTERVAL;VALUE=DURATION:PT1H
X-Robots-Tag:noindex
X-PUBLISHED-TTL:PT1H
BEGIN:VTIMEZONE
TZID:Europe/Stockholm
BEGIN:DAYLIGHT
TZOFFSETFROM:+0100
TZOFFSETTO:+0200
TZNAME:CEST
DTSTART:20260329T010000
END:DAYLIGHT
BEGIN:STANDARD
TZOFFSETFROM:+0200
TZOFFSETTO:+0100
TZNAME:CET
DTSTART:20261025T010000
END:STANDARD
END:VTIMEZONE
BEGIN:VEVENT
DTSTART;TZID=Europe/Stockholm:20260331T180000
DTEND;TZID=Europe/Stockholm:20260331T190000
DTSTAMP:20260425T193434
CREATED:20260327T165457Z
LAST-MODIFIED:20260327T165457Z
UID:1370-1774980000-1774983600@www.fjarasaik.se
SUMMARY:Årets första tisdagsträning!
DESCRIPTION:Nu kör vi äntligen igång! \nhttps://eventor.orientering.se/Activities/Show/25941 \nTid: Kl 18.00 tisdagen den 31/3 \nPlats: Rigortorpet \nInfo: Teknikträning. Glöm inte att läsa PM i Eventor\, den innehåller mycket bra info kring strategier för alla nivåer. \nAnmälan via Eventor eller till robert@fjarasaik.se eller 0707-128162. \nSe till att du är med nu\, det är härligt att komma ut i skogen och jogga även om det fortfarande kan vara lite kyligt blir man ju snabbt varm 🙂
URL:https://www.fjarasaik.se/event/arets-forsta-tisdagstraning/
CATEGORIES:Träning
END:VEVENT
END:VCALENDAR